BEGIN:VCALENDAR
VERSION:2.0
PRODID:-//FestTR - ECPv6.15.20//NONSGML v1.0//EN
CALSCALE:GREGORIAN
METHOD:PUBLISH
X-WR-CALNAME:FestTR
X-ORIGINAL-URL:https://festtr.com
X-WR-CALDESC:FestTR için etkinlikler
REFRESH-INTERVAL;VALUE=DURATION:PT1H
X-Robots-Tag:noindex
X-PUBLISHED-TTL:PT1H
BEGIN:VTIMEZONE
TZID:Europe/Istanbul
BEGIN:STANDARD
TZOFFSETFROM:+0300
TZOFFSETTO:+0300
TZNAME:+03
DTSTART:20230101T000000
END:STANDARD
END:VTIMEZONE
BEGIN:VEVENT
DTSTART;TZID=Europe/Istanbul:20250521T130000
DTEND;TZID=Europe/Istanbul:20250525T233000
DTSTAMP:20260420T010834
CREATED:20250521T001449Z
LAST-MODIFIED:20250521T002537Z
UID:10004335-1747832400-1748215800@festtr.com
SUMMARY:Sarayköy Tarım ve Kültür Festivali
DESCRIPTION:6. Sarayköy Tarım ve Kültür Festivali başlıyor!🎊 \nEğlence\, müzik ve heyecan dolu günler 21-25 Mayıs tarihleri arasında bizleri bekliyor! \nBirbirinden özel etkinlikler\, unutulmaz konserler\, panayır alanları ve rengarenk lunapark ile festival coşkusunu birlikte yaşayacağız.
URL:https://festtr.com/festival/saraykoy-tarim-ve-kultur-festivali/
LOCATION:Denizli\, Denizli\, Türkiye
CATEGORIES:Denizli Festivalleri,Kültür Festivali,Ücretsiz
ATTACH;FMTTYPE=image/jpeg:https://festtr.com/wp-content/uploads/denizli-saraykoy-festival-hbr-21.05.2025-03-09-50.jpg
GEO:37.782452;29.096066
END:VEVENT
BEGIN:VEVENT
DTSTART;TZID=Europe/Istanbul:20240917T120000
DTEND;TZID=Europe/Istanbul:20240922T233000
DTSTAMP:20260420T010834
CREATED:20240819T023159Z
LAST-MODIFIED:20240915T203913Z
UID:10004170-1726574400-1727047800@festtr.com
SUMMARY:İpsala Çeltik Festivali ve Tarım Fuarı
DESCRIPTION:İpsala 23. Çeltik Festivali ve Tarım Fuarı 17 – 22 Eylül 2024 tarihleri arasında yapılacak.
URL:https://festtr.com/festival/ipsala-celtik-festivali/
LOCATION:İpsala\, İpsala\, Edirne\, Türkiye
CATEGORIES:Edirne Festivalleri,Ücretsiz,Yöresel Ürünler Festivali
ATTACH;FMTTYPE=image/jpeg:https://festtr.com/wp-content/uploads/ipsala-celtik-19.08.2024-05-31-10.jpg
END:VEVENT
BEGIN:VEVENT
DTSTART;TZID=Europe/Istanbul:20240906T140000
DTEND;TZID=Europe/Istanbul:20240908T233000
DTSTAMP:20260420T010834
CREATED:20190829T190626Z
LAST-MODIFIED:20240904T144542Z
UID:10002351-1725631200-1725838200@festtr.com
SUMMARY:EFEST
DESCRIPTION:Efes Selçuk’ta 6-8 Eylül’de eğlenceye doyamayacağınız bir festival olacak: EFEST!..
URL:https://festtr.com/festival/efest/
LOCATION:İzmir\, İzmir\, Türkiye
CATEGORIES:İzmir Festivalleri,Kültür Festivali,Müzik Festivali,Popüler,Ücretsiz
ATTACH;FMTTYPE=image/jpeg:https://festtr.com/wp-content/uploads/sil-19.08.2024-02-09-56.jpg
END:VEVENT
BEGIN:VEVENT
DTSTART;TZID=Europe/Istanbul:20240802T120000
DTEND;TZID=Europe/Istanbul:20240804T210000
DTSTAMP:20260420T010834
CREATED:20190805T232951Z
LAST-MODIFIED:20240730T184406Z
UID:10002784-1722600000-1722805200@festtr.com
SUMMARY:Yatağan Bıçakçılık Festivali ve Kefe Yaylası Şenlikleri
DESCRIPTION:Denizli Serinhisar ilçesinde bu sene 27. kez düzenlenecek Yatağan Bıçakçılık ve Kefe Yaylası Şenlikleri 2-4 Ağustos tarihlerinde gerçekleşecek.
URL:https://festtr.com/festival/kefefest/
LOCATION:Yatağan\, Yatağan\, Denizli\, Türkiye
CATEGORIES:Denizli Festivalleri,Kültür Festivali,Popüler,Şenlik,Ücretsiz
ATTACH;FMTTYPE=image/jpeg:https://festtr.com/wp-content/uploads/sil-30.07.2024-21-35-30.jpg
END:VEVENT
BEGIN:VEVENT
DTSTART;TZID=Europe/Istanbul:20240724T120000
DTEND;TZID=Europe/Istanbul:20240728T230000
DTSTAMP:20260420T010834
CREATED:20190701T135809Z
LAST-MODIFIED:20240724T011626Z
UID:10002271-1721822400-1722207600@festtr.com
SUMMARY:Uluslararası Beyşehir Göl Festivali
DESCRIPTION:Konya’nın Beyşehir ilçesinde bu yıl 17. Uluslararası Beyşehir Göl Festivali 24-28 Temmuz tarihleri arasında yapılacak.
URL:https://festtr.com/festival/uluslararasi-beysehir-gol-festivali/
LOCATION:Beyşehir\, Beyşehir\, Konya\, Türkiye
CATEGORIES:Konya Festivalleri,Kültür Festivali,Şenlik,Ücretsiz,Yöresel Festival
ATTACH;FMTTYPE=image/jpeg:https://festtr.com/wp-content/uploads/sil-24.07.2024-04-05-49.jpg
END:VEVENT
END:VCALENDAR