BEGIN:VCALENDAR
VERSION:2.0
PRODID:-//FestTR - ECPv6.15.20//NONSGML v1.0//EN
CALSCALE:GREGORIAN
METHOD:PUBLISH
X-ORIGINAL-URL:https://festtr.com
X-WR-CALDESC:FestTR için etkinlikler
REFRESH-INTERVAL;VALUE=DURATION:PT1H
X-Robots-Tag:noindex
X-PUBLISHED-TTL:PT1H
BEGIN:VTIMEZONE
TZID:Europe/Istanbul
BEGIN:STANDARD
TZOFFSETFROM:+0300
TZOFFSETTO:+0300
TZNAME:+03
DTSTART:20230101T000000
END:STANDARD
END:VTIMEZONE
BEGIN:VEVENT
DTSTART;TZID=Europe/Istanbul:20250626T150000
DTEND;TZID=Europe/Istanbul:20250629T233000
DTSTAMP:20260420T121044
CREATED:20250602T215330Z
LAST-MODIFIED:20250602T215534Z
UID:10004349-1750950000-1751239800@festtr.com
SUMMARY:We Are Young Festival - Kadıköy Gençlik Festivali
DESCRIPTION:We Are Young Kadıköy Gençlik Festivali; unutulmaz konserler ve dopdolu bir festival deneyimi için tüm gençlerle Kadıköy Festival Park’ta buluşuyor. \nSen de yerini al\, bu festivali kaçırma!
URL:https://festtr.com/festival/we-are-young/
LOCATION:İstanbul\, İstanbul\, Türkiye
CATEGORIES:❤ İndirimli Festivaller,Gençlik Festivali,İstanbul Festivalleri,Müzik Festivali,Popüler
ATTACH;FMTTYPE=image/jpeg:https://festtr.com/wp-content/uploads/we-are-young-festival-33216-1.06.2025-03-20-37.jpg
END:VEVENT
BEGIN:VEVENT
DTSTART;TZID=Europe/Istanbul:20250222T140000
DTEND;TZID=Europe/Istanbul:20250222T233000
DTSTAMP:20260420T121044
CREATED:20250209T224741Z
LAST-MODIFIED:20250209T224809Z
UID:10004283-1740232800-1740267000@festtr.com
SUMMARY:Elazığ Müzik Festivali
DESCRIPTION:Elazığ’ın ilk ve tek müzik festivali için geri sayım başladı! \nBu efsane gecede Yüzyüzeyken Konuşuruz\, çok sevilen şarkılarıyla 22 Şubat akşamı Ahmet Tevfik Ozan Kongre Merkezi’nde harika bir müzik keyfi sunacak. ⁣🎶⁣
URL:https://festtr.com/festival/elazig-muzik-festivali/
LOCATION:Elazığ\, Türkiye
CATEGORIES:Elazığ Festivalleri,Müzik Festivali
ATTACH;FMTTYPE=image/jpeg:https://festtr.com/wp-content/uploads/elazigmuzikfestivali-10.02.2025-01-44-39.jpg
GEO:38.674385;39.223916
END:VEVENT
BEGIN:VEVENT
DTSTART;TZID=Europe/Istanbul:20241004T120000
DTEND;TZID=Europe/Istanbul:20241006T233000
DTSTAMP:20260420T121044
CREATED:20241004T001833Z
LAST-MODIFIED:20241004T001848Z
UID:10004230-1728043200-1728257400@festtr.com
SUMMARY:Eskişehir Gastro Fest
DESCRIPTION:Eskişehir Gastro Fest 4-6 Ekim tarihlerinde Sümer Parkı’nda.
URL:https://festtr.com/festival/eskisehir-gastro-fest/
LOCATION:Eskişehir\, Eskişehir\, Türkiye
CATEGORIES:❤ İndirimli Festivaller,Gastronomi Festivali,İstanbul Festivalleri,Yiyecek-İçecek Festivali
ATTACH;FMTTYPE=image/jpeg:https://festtr.com/wp-content/uploads/sil-2.10.2024-20-46-57.jpg
GEO:39.770273;30.518714
END:VEVENT
END:VCALENDAR