BEGIN:VCALENDAR
VERSION:2.0
PRODID:-//FestTR - ECPv6.15.20//NONSGML v1.0//EN
CALSCALE:GREGORIAN
METHOD:PUBLISH
X-ORIGINAL-URL:https://festtr.com
X-WR-CALDESC:FestTR için etkinlikler
REFRESH-INTERVAL;VALUE=DURATION:PT1H
X-Robots-Tag:noindex
X-PUBLISHED-TTL:PT1H
BEGIN:VTIMEZONE
TZID:Europe/Istanbul
BEGIN:STANDARD
TZOFFSETFROM:+0300
TZOFFSETTO:+0300
TZNAME:+03
DTSTART:20240101T000000
END:STANDARD
END:VTIMEZONE
BEGIN:VEVENT
DTSTART;TZID=Europe/Istanbul:20250208T100000
DTEND;TZID=Europe/Istanbul:20250212T220000
DTSTAMP:20260423T190930
CREATED:20250207T205357Z
LAST-MODIFIED:20250207T205412Z
UID:10004276-1739008800-1739397600@festtr.com
SUMMARY:Denizli Alışveriş Festivali
DESCRIPTION:2. Denizli Alışveriş Festivali 8-12 Şubat tarihlerinde gerçekleşecek. \n8- 9- 10- 11-12 Şubat tarihlerinde gerçekleşecek Denizli 2. Alışveriş Festivali’ne tüm halkımızı bekliyoruz.🤗 \n🛍️DENİZLİ 2. ALIŞVERİŞ FESTİVALİ\n🗓️ 8-9-10-11-12 Şubat 2025\n📍Adres: Denizli Kayıhan Kapalı Pazar Yeri \n🔸Ücretsiz halk konserleri\n🔸Sürpriz hediyeler\n🔸Muhteşem çekilişler
URL:https://festtr.com/festival/denizli-alisveris-festivali/
LOCATION:Denizli\, Denizli\, Türkiye
CATEGORIES:Alışveriş Festivali,Denizli Festivalleri,Ücretsiz
ATTACH;FMTTYPE=image/jpeg:https://festtr.com/wp-content/uploads/alisveris-19.06.2021-03-57-33.jpg
GEO:37.782452;29.096066
END:VEVENT
END:VCALENDAR