BEGIN:VCALENDAR
VERSION:2.0
PRODID:-//FestTR - ECPv6.15.20//NONSGML v1.0//EN
CALSCALE:GREGORIAN
METHOD:PUBLISH
X-ORIGINAL-URL:https://festtr.com
X-WR-CALDESC:FestTR için etkinlikler
REFRESH-INTERVAL;VALUE=DURATION:PT1H
X-Robots-Tag:noindex
X-PUBLISHED-TTL:PT1H
BEGIN:VTIMEZONE
TZID:Europe/Istanbul
BEGIN:STANDARD
TZOFFSETFROM:+0300
TZOFFSETTO:+0300
TZNAME:+03
DTSTART:20230101T000000
END:STANDARD
END:VTIMEZONE
BEGIN:VEVENT
DTSTART;TZID=Europe/Istanbul:20240921T130000
DTEND;TZID=Europe/Istanbul:20240921T233000
DTSTAMP:20260419T172347
CREATED:20230829T010050Z
LAST-MODIFIED:20240824T233511Z
UID:10003530-1726923600-1726961400@festtr.com
SUMMARY:Watsons Gençlik Festivali
DESCRIPTION:Watsons Gençlik Festivali kapılarını 21 Eylül Cumartesi günü Santral İstanbul’da açıyor.
URL:https://festtr.com/festival/watsons-genclik-festivali/
LOCATION:İstanbul\, İstanbul\, Türkiye
CATEGORIES:❤ İndirimli Festivaller,Gençlik Festivali,İstanbul Festivalleri
ATTACH;FMTTYPE=image/jpeg:https://festtr.com/wp-content/uploads/watsons-genclik-festivali-29.08.2023-03-58-51.jpg
END:VEVENT
BEGIN:VEVENT
DTSTART;TZID=Europe/Istanbul:20240606T120000
DTEND;TZID=Europe/Istanbul:20240609T233000
DTSTAMP:20260419T172347
CREATED:20180623T215736Z
LAST-MODIFIED:20240430T041647Z
UID:10001898-1717675200-1717975800@festtr.com
SUMMARY:Samsun Gençlik Festivali
DESCRIPTION:Karadeniz’in en büyük müzik festivali Samsun Gençlik Festivali 6-9 Haziran tarihlerinde Sheraton Grand Beach’te gerçekleşecek! Karadeniz’in dört bir yanından gelen müzikseverlerin akınına uğrayan Samsun Gençlik Festivali\, beşinci kez yola çıkmak için hazır!
URL:https://festtr.com/festival/samsun-genclik-festivali/
LOCATION:Samsun\, Samsun\, Türkiye
CATEGORIES:Gençlik Festivali,MilyonFest,Müzik Festivali,Popüler,Samsun Festivalleri
ATTACH;FMTTYPE=image/jpeg:https://festtr.com/wp-content/uploads/sil-30.04.2024-07-09-38.jpg
END:VEVENT
BEGIN:VEVENT
DTSTART;VALUE=DATE:20240513
DTEND;VALUE=DATE:20240517
DTSTAMP:20260419T172347
CREATED:20190427T164408Z
LAST-MODIFIED:20240406T021140Z
UID:10002196-1715562000-1715821199@festtr.com
SUMMARY:HÜFEST - Hacettepe Üniversitesi Bahar Şenliği
DESCRIPTION:HUFEST 2024 – Hacettepe Üniversitesi Öğrenci Bahar Festivali\, 13-15 Mayıs tarihlerinde Beytepe Kampüsünde gerçekleşecek. \nHacettepelilere Duyurulur!\n13-14-15 Mayıs tarihlerinde Beytepe Amfi Tiyatro’da yeniden #HUFEST24’teyiz. Etkinliğimiz\, Hacettepe Üniversitesi öğrencilerine\, akademik ve idari kadroya ücretsizdir. Dışarıdan katılmak isteyen misafirlerimiz için etkinlik biletleri #bubilet ve #ifbilet üzerinden satışa sunulmuştur. \nBu yıl 26. kez düzenlenecek olan HÜFEST\, 13-14-15 Mayıs tarihlerinde Hacettepe Üniversitesi Beytepe Kampüsü’nde gerçekleşecek ve sizleri ağırlamaktan mutluluk duyacak. Üç gün boyunca çeşitli etkinlikler ve birbirinden eşsiz sanatçı performanslarıyla dolu olan bu festival\, üniversite atmosferinin coşkusunu ve heyecanını yaşamanızı sağlayacak. Gel\, bu muhteşem deneyimi birlikte yaşayalım! \nDetaylar çok yakında…
URL:https://festtr.com/festival/hufest/
LOCATION:Ankara\, Ankara\, Türkiye
CATEGORIES:❤ İndirimli Festivaller,Ankara Festivalleri,Gençlik Festivali,Şenlik
ATTACH;FMTTYPE=image/jpeg:https://festtr.com/wp-content/uploads/hufest-6.04.2024-04-46-44.jpg
END:VEVENT
END:VCALENDAR