BEGIN:VCALENDAR
VERSION:2.0
PRODID:-//FestTR - ECPv6.15.20//NONSGML v1.0//EN
CALSCALE:GREGORIAN
METHOD:PUBLISH
X-WR-CALNAME:FestTR
X-ORIGINAL-URL:https://festtr.com
X-WR-CALDESC:FestTR için etkinlikler
REFRESH-INTERVAL;VALUE=DURATION:PT1H
X-Robots-Tag:noindex
X-PUBLISHED-TTL:PT1H
BEGIN:VTIMEZONE
TZID:Europe/Istanbul
BEGIN:STANDARD
TZOFFSETFROM:+0300
TZOFFSETTO:+0300
TZNAME:+03
DTSTART:20230101T000000
END:STANDARD
END:VTIMEZONE
BEGIN:VEVENT
DTSTART;TZID=Europe/Istanbul:20240920T140000
DTEND;TZID=Europe/Istanbul:20240922T233000
DTSTAMP:20260415T205039
CREATED:20180726T020553Z
LAST-MODIFIED:20240904T015200Z
UID:10001946-1726840800-1727047800@festtr.com
SUMMARY:Ankara Coffee Festival
DESCRIPTION:Ankara Coffee Festival 20-22 Eylül tarihlerinde Ankara Bilkent Center’da düzenlenecek.
URL:https://festtr.com/festival/ankara-coffee-festival/
LOCATION:Ankara\, Ankara\, Türkiye
CATEGORIES:Alışveriş Festivali,Ankara Festivalleri,Yiyecek-İçecek Festivali
ATTACH;FMTTYPE=image/jpeg:https://festtr.com/wp-content/uploads/ankara-coffee-festival-22.09.2022-03-03-29.jpg
END:VEVENT
BEGIN:VEVENT
DTSTART;TZID=Europe/Istanbul:20240808T130000
DTEND;TZID=Europe/Istanbul:20240811T233000
DTSTAMP:20260415T205039
CREATED:20230307T204117Z
LAST-MODIFIED:20240801T191301Z
UID:10003487-1723122000-1723419000@festtr.com
SUMMARY:Sinoz Karadeniz Müzik Festivali
DESCRIPTION:Karadeniz Müzik Festivali unutulmaz bir festival deneyimi için sizleri bekliyor.
URL:https://festtr.com/festival/karadeniz-muzik-festivali/
LOCATION:Akliman\, Akliman\, Sinop\, Sinop Merkez\, Türkiye
CATEGORIES:❤ İndirimli Festivaller,Müzik Festivali,Sinop Festivalleri
ATTACH;FMTTYPE=image/jpeg:https://festtr.com/wp-content/uploads/karadeniz-muzik-festivali-14961-7.03.2023-23-40-47.jpg
END:VEVENT
BEGIN:VEVENT
DTSTART;TZID=Europe/Istanbul:20240607T120000
DTEND;TZID=Europe/Istanbul:20240609T233000
DTSTAMP:20260415T205039
CREATED:20240327T222146Z
LAST-MODIFIED:20240528T022348Z
UID:10003612-1717761600-1717975800@festtr.com
SUMMARY:Main Fest - Island Edition
DESCRIPTION:Büyükada’nın eşsiz atmosferi The Roof Ada’da Main Fest Island Edition için bir araya geliyoruz. Müziğin sesi adada yükseliyor\, eğlence ve coşku dalgaları ile dolu unutulmaz anlar yaşamak için hazır mısın?
URL:https://festtr.com/festival/main-fest-island-edition/
LOCATION:Büyükada\, Büyükada\, Adalar\, İstanbul\, Adalar\, Türkiye
CATEGORIES:❤ İndirimli Festivaller,Müzik Festivali
ATTACH;FMTTYPE=image/jpeg:https://festtr.com/wp-content/uploads/mainfest-noya-28.03.2024-01-16-47.jpg
END:VEVENT
BEGIN:VEVENT
DTSTART;TZID=Europe/Istanbul:20240601T120000
DTEND;TZID=Europe/Istanbul:20240602T233000
DTSTAMP:20260415T205039
CREATED:20240430T025854Z
LAST-MODIFIED:20240430T030405Z
UID:10003651-1717243200-1717371000@festtr.com
SUMMARY:Grill Festival İstanbul
DESCRIPTION:ŞEHRİN EN YENİ ve EN LEZZETLİ FESTİVALİ GRILL İSTANBUL\, 1-2 HAZİRAN’DA KÜÇÜKÇİFTLİK PARK’TA!
URL:https://festtr.com/festival/grill-festival-istanbul/
LOCATION:KüçükÇiftlik Park\, Harbiye\, Kadırgalar Cd. No:4\, Şişli\, İstanbul\, Şişli\, 34367\, Türkiye
CATEGORIES:İstanbul Festivalleri,Müzik Festivali,Popüler,Yiyecek-İçecek Festivali
ATTACH;FMTTYPE=image/jpeg:https://festtr.com/wp-content/uploads/sil-30.04.2024-05-51-13.jpg
END:VEVENT
END:VCALENDAR