BEGIN:VCALENDAR
VERSION:2.0
PRODID:-//FestTR - ECPv6.15.20//NONSGML v1.0//EN
CALSCALE:GREGORIAN
METHOD:PUBLISH
X-ORIGINAL-URL:https://festtr.com
X-WR-CALDESC:FestTR için etkinlikler
REFRESH-INTERVAL;VALUE=DURATION:PT1H
X-Robots-Tag:noindex
X-PUBLISHED-TTL:PT1H
BEGIN:VTIMEZONE
TZID:Europe/Istanbul
BEGIN:STANDARD
TZOFFSETFROM:+0300
TZOFFSETTO:+0300
TZNAME:+03
DTSTART:20230101T000000
END:STANDARD
END:VTIMEZONE
BEGIN:VEVENT
DTSTART;TZID=Europe/Istanbul:20240908T120000
DTEND;TZID=Europe/Istanbul:20240908T233000
DTSTAMP:20260423T113849
CREATED:20231006T200100Z
LAST-MODIFIED:20240903T220403Z
UID:10002948-1725796800-1725838200@festtr.com
SUMMARY:Sayalar Kırmızı Biber Şenliği
DESCRIPTION:Sayalar Kırmızı Biber Şenliği 8 Eylül’de Silivri’de…
URL:https://festtr.com/festival/sayalar-kirmizi-biber-senligi/
LOCATION:Silivri\, Silivri\, İstanbul\, Türkiye
CATEGORIES:İstanbul Festivalleri,Ücretsiz,Yöresel Ürünler Festivali
ATTACH;FMTTYPE=image/jpeg:https://festtr.com/wp-content/uploads/kirmizi-biber-2-6.10.2023-22-59-01.jpg
END:VEVENT
END:VCALENDAR