BEGIN:VCALENDAR
VERSION:2.0
PRODID:-//FestTR - ECPv6.15.20//NONSGML v1.0//EN
CALSCALE:GREGORIAN
METHOD:PUBLISH
X-WR-CALNAME:FestTR
X-ORIGINAL-URL:https://festtr.com
X-WR-CALDESC:FestTR için etkinlikler
REFRESH-INTERVAL;VALUE=DURATION:PT1H
X-Robots-Tag:noindex
X-PUBLISHED-TTL:PT1H
BEGIN:VTIMEZONE
TZID:Europe/Istanbul
BEGIN:STANDARD
TZOFFSETFROM:+0300
TZOFFSETTO:+0300
TZNAME:+03
DTSTART:20230101T000000
END:STANDARD
END:VTIMEZONE
BEGIN:VEVENT
DTSTART;TZID=Europe/Istanbul:20241122T120000
DTEND;TZID=Europe/Istanbul:20241124T233000
DTSTAMP:20260421T112541
CREATED:20241015T005404Z
LAST-MODIFIED:20241015T005404Z
UID:10004247-1732276800-1732491000@festtr.com
SUMMARY:O'fest Ordu
DESCRIPTION:O’fest Ordu 22-23-24 Kasım’da Ayzek Otel’de!
URL:https://festtr.com/festival/ofest-ordu/
LOCATION:Ordu\, Türkiye
CATEGORIES:MilyonFest,Müzik Festivali,Ordu Festivalleri
ATTACH;FMTTYPE=image/jpeg:https://festtr.com/wp-content/uploads/ofest-genel-15.10.2024-03-23-01.jpg
GEO:41.016668;37.876045
END:VEVENT
END:VCALENDAR