BEGIN:VCALENDAR
VERSION:2.0
PRODID:-//FestTR - ECPv6.15.20//NONSGML v1.0//EN
CALSCALE:GREGORIAN
METHOD:PUBLISH
X-WR-CALNAME:FestTR
X-ORIGINAL-URL:https://festtr.com
X-WR-CALDESC:FestTR için etkinlikler
REFRESH-INTERVAL;VALUE=DURATION:PT1H
X-Robots-Tag:noindex
X-PUBLISHED-TTL:PT1H
BEGIN:VTIMEZONE
TZID:Europe/Istanbul
BEGIN:STANDARD
TZOFFSETFROM:+0300
TZOFFSETTO:+0300
TZNAME:+03
DTSTART:20230101T000000
END:STANDARD
END:VTIMEZONE
BEGIN:VEVENT
DTSTART;TZID=Europe/Istanbul:20250912T183000
DTEND;TZID=Europe/Istanbul:20250914T233000
DTSTAMP:20260423T113646
CREATED:20181204T213254Z
LAST-MODIFIED:20250821T132808Z
UID:10002280-1757701800-1757892600@festtr.com
SUMMARY:LÜBİFEST - Lüleburgaz Bisiklet Festivali
DESCRIPTION:Konserler\, sürpriz hediye çekilişleri\, slotcar yarışları ve bisiklet turlarıyla bu yıl LÜBİFEST 7’da buluşuyoruz!
URL:https://festtr.com/festival/luleburgaz-bisiklet-festivali/
LOCATION:Lüleburgaz\, Lüleburgaz\, Kırklaereli\, Türkiye
CATEGORIES:Bisiklet Festivali,Kırklareli Festivalleri,Spor Festivali,Ücretsiz
ATTACH;FMTTYPE=image/jpeg:https://festtr.com/wp-content/uploads/bisiklet-9.04.2024-00-48-01.jpg
END:VEVENT
BEGIN:VEVENT
DTSTART;TZID=Europe/Istanbul:20250724T140000
DTEND;TZID=Europe/Istanbul:20250727T233000
DTSTAMP:20260423T113646
CREATED:20250704T004922Z
LAST-MODIFIED:20250704T004922Z
UID:10004358-1753365600-1753659000@festtr.com
SUMMARY:Milyonfest Didim
DESCRIPTION:Milyonfest Didim\, 24-25-26-27 Temmuz’da Tavşanburnu Orman Kampı’nda! Kum\, deniz ve gölgelik kamp alanıyla Türkiye’nin en yeni kamplı rock tatili seni bekliyor.
URL:https://festtr.com/festival/milyonfest-didim/
LOCATION:Aydın\, Aydın\, Türkiye
CATEGORIES:❤ İndirimli Festivaller,Aydın Festivalleri,MilyonFest,Müzik Festivali
ATTACH;FMTTYPE=image/jpeg:https://festtr.com/wp-content/uploads/milyonfest-didim-2025-30885-4.07.2025-03-46-09.jpg
GEO:37.795005;27.717969
END:VEVENT
BEGIN:VEVENT
DTSTART;TZID=Europe/Istanbul:20250718T120000
DTEND;TZID=Europe/Istanbul:20250720T233000
DTSTAMP:20260423T113646
CREATED:20250704T011802Z
LAST-MODIFIED:20250704T011802Z
UID:10004359-1752840000-1753054200@festtr.com
SUMMARY:Roys Fest Arsuz
DESCRIPTION:Roys Fest Arsuz; 18-19-20 Temmuz’da Diva Turka Beach Hatay’da!
URL:https://festtr.com/festival/roys-fest-arsuz/
LOCATION:Hatay\, Hatay\, Türkiye
CATEGORIES:❤ İndirimli Festivaller,Hatay Festivalleri,Müzik Festivali,Popüler
ATTACH;FMTTYPE=image/jpeg:https://festtr.com/wp-content/uploads/roys-fest-4.07.2025-04-13-52.jpg
GEO:36.584753;36.201574
END:VEVENT
BEGIN:VEVENT
DTSTART;TZID=Europe/Istanbul:20250705T120000
DTEND;TZID=Europe/Istanbul:20250730T233000
DTSTAMP:20260423T113646
CREATED:20190626T013427Z
LAST-MODIFIED:20250704T015807Z
UID:10002691-1751716800-1753918200@festtr.com
SUMMARY:Uluslararası Bursa Festivali
DESCRIPTION:63. Uluslararası Bursa Festivali Başlıyor!
URL:https://festtr.com/festival/uluslararasi-bursa-festivali/
LOCATION:Bursa\, Bursa\, Türkiye
CATEGORIES:Bursa Festivalleri,Kültür Festivali,Müzik Festivali,Popüler,Sanat Festivali
ATTACH;FMTTYPE=image/jpeg:https://festtr.com/wp-content/uploads/bursakultursanatveturizmvakfi_1750431907_3659210513786784309_752127081-4.07.2025-04-39-55.jpg
GEO:40.2215936;28.8922054
END:VEVENT
BEGIN:VEVENT
DTSTART;TZID=Europe/Istanbul:20250619T150000
DTEND;TZID=Europe/Istanbul:20250622T233000
DTSTAMP:20260423T113647
CREATED:20250529T220355Z
LAST-MODIFIED:20250529T220355Z
UID:10004344-1750345200-1750635000@festtr.com
SUMMARY:Irish Fest
DESCRIPTION:Sahne hazır! Irish Fest başlıyor.\n19–22 Haziran’da şehir dans ediyor\, eğlence her köşeye yayılıyor.\nGözünü dört aç\, Aslan Adam bir anda karşına çıkabilir! 👀🦁\nFarklı mekanlar\, sürpriz anlar ve bolca müzik için takipte kal.
URL:https://festtr.com/festival/irish-fest/
LOCATION:İstanbul\, İstanbul\, Türkiye
CATEGORIES:İstanbul Festivalleri,Müzik Festivali,Ücretsiz
ATTACH;FMTTYPE=image/jpeg:https://festtr.com/wp-content/uploads/irish-fest-30.05.2025-00-59-20.jpg
END:VEVENT
BEGIN:VEVENT
DTSTART;TZID=Europe/Istanbul:20250529T120000
DTEND;TZID=Europe/Istanbul:20250602T233000
DTSTAMP:20260423T113647
CREATED:20240531T004121Z
LAST-MODIFIED:20240807T102329Z
UID:10003705-1748520000-1748907000@festtr.com
SUMMARY:Uluslararası İnci Kefali Göçü Kültür ve Sanat Festivali
DESCRIPTION:12. Uluslararası İnci Kefali Göçü Kültür ve Sanat Festivali\, İnci Kefali Göçü İzleme Parkı’nda (Balık Bendi) sizlerle…
URL:https://festtr.com/festival/inci-kefali-gocu-festivali/
LOCATION:Van\, Van\, Türkiye
CATEGORIES:Kültür Festivali,Sanat Festivali,Ücretsiz,Van Festivalleri
ATTACH;FMTTYPE=image/jpeg:https://festtr.com/wp-content/uploads/inci-kefali-31.05.2024-03-39-36.jpg
GEO:38.512022;43.372568
END:VEVENT
BEGIN:VEVENT
DTSTART;TZID=Europe/Istanbul:20241122T120000
DTEND;TZID=Europe/Istanbul:20241124T233000
DTSTAMP:20260423T113647
CREATED:20241015T005404Z
LAST-MODIFIED:20241015T005404Z
UID:10004247-1732276800-1732491000@festtr.com
SUMMARY:O'fest Ordu
DESCRIPTION:O’fest Ordu 22-23-24 Kasım’da Ayzek Otel’de!
URL:https://festtr.com/festival/ofest-ordu/
LOCATION:Ordu\, Türkiye
CATEGORIES:MilyonFest,Müzik Festivali,Ordu Festivalleri
ATTACH;FMTTYPE=image/jpeg:https://festtr.com/wp-content/uploads/ofest-genel-15.10.2024-03-23-01.jpg
GEO:41.016668;37.876045
END:VEVENT
BEGIN:VEVENT
DTSTART;TZID=Europe/Istanbul:20241025T150000
DTEND;TZID=Europe/Istanbul:20241025T233000
DTSTAMP:20260423T113647
CREATED:20211207T233506Z
LAST-MODIFIED:20241011T221106Z
UID:10002742-1729868400-1729899000@festtr.com
SUMMARY:BirGün'lük Festival
DESCRIPTION:BirGün’lük Festival 25 Ekim’de Alsancak Tarihi Havagazı Fabrikası’nda! \nZor günlerde bir umut havası solumak\, hep birlikte seslerimizi birleştirmek için… \n🎸 *BirGün’lük Festival coşkusu 25 Ekim’de İzmir’de…* \nBiz hazırız\, yeniden bir aradayız. O zaman haydi! 📣
URL:https://festtr.com/festival/birgunluk-festival/
LOCATION:Tarihi Havagazı Fabrikası\, Tarihi Havagazı Fabrikası\, Alsancak\, Umurbey Mahallesi\, Alsancak\, İzmir\, 35000\, Türkiye
CATEGORIES:❤ İndirimli Festivaller,Alternatif Festival,İzmir Festivalleri,Müzik Festivali
ATTACH;FMTTYPE=image/jpeg:https://festtr.com/wp-content/uploads/sil-12.10.2024-01-07-41.jpg
GEO:38.440529429923;27.151646996021
X-APPLE-STRUCTURED-LOCATION;VALUE=URI;X-ADDRESS=Tarihi Havagazı Fabrikası Tarihi Havagazı Fabrikası Alsancak Umurbey Mahallesi Alsancak İzmir 35000 Türkiye;X-APPLE-RADIUS=500;X-TITLE=Tarihi Havagazı Fabrikası\, Alsancak\, Umurbey Mahallesi\, Alsancak:geo:27.151646996021,38.440529429923
END:VEVENT
BEGIN:VEVENT
DTSTART;TZID=Europe/Istanbul:20241011T120000
DTEND;TZID=Europe/Istanbul:20241013T233000
DTSTAMP:20260423T113647
CREATED:20231229T224857Z
LAST-MODIFIED:20240528T015833Z
UID:10003565-1728648000-1728862200@festtr.com
SUMMARY:Bolu Müzik Festivali
DESCRIPTION:Bu yıl ilk kez düzenlenecek olan Bolu Müzik Festivali\, 3 gün boyunca çeşitli etkinlikler\, birbirinden eşsiz sahne performansları ile VonResort Abant’ta tüm müzikseverler ile buluşuyor.
URL:https://festtr.com/festival/bolu-muzik-festivali/
LOCATION:Abant\, Abant\, Bolu\, Abant\, Türkiye
CATEGORIES:❤ İndirimli Festivaller,Bolu Festivalleri,Müzik Festivali
ATTACH;FMTTYPE=image/jpeg:https://festtr.com/wp-content/uploads/bolu-muzik-festivali-64190-30.12.2023-01-43-04.jpg
END:VEVENT
BEGIN:VEVENT
DTSTART;TZID=Europe/Istanbul:20240830T120000
DTEND;TZID=Europe/Istanbul:20240905T233000
DTSTAMP:20260423T113647
CREATED:20240824T221734Z
LAST-MODIFIED:20240826T171332Z
UID:10004177-1725019200-1725579000@festtr.com
SUMMARY:Susurluk Ayran Festivali
DESCRIPTION:35. Susurluk Ayran Festivali 30 Ağustos’ta başlıyor.
URL:https://festtr.com/festival/susurluk-ayran-festivali/
LOCATION:Balıkesir\, Balıkesir\, Türkiye
CATEGORIES:Balıkesir Festivalleri,Ücretsiz,Yiyecek-İçecek Festivali,Yöresel Ürünler Festivali
ATTACH;FMTTYPE=image/jpeg:https://festtr.com/wp-content/uploads/susurluk-ayrani-25.08.2024-01-13-34.jpg
END:VEVENT
BEGIN:VEVENT
DTSTART;TZID=Europe/Istanbul:20240828T120000
DTEND;TZID=Europe/Istanbul:20240830T233000
DTSTAMP:20260423T113647
CREATED:20240824T003446Z
LAST-MODIFIED:20240824T003446Z
UID:10004172-1724846400-1725060600@festtr.com
SUMMARY:Dikili Kültür Demokrasi ve Emek Festivali
DESCRIPTION:38. Dikili Kültür\, Demokrasi ve Emek Festivali başlıyor!
URL:https://festtr.com/festival/dikili-kultur-demokrasi-ve-emek-festivali/
LOCATION:İzmir\, İzmir\, Türkiye
CATEGORIES:İzmir Festivalleri,Kültür Festivali,Ücretsiz,Yöresel Festival
ATTACH;FMTTYPE=image/jpeg:https://festtr.com/wp-content/uploads/sil-24.08.2024-03-33-43.jpg
END:VEVENT
BEGIN:VEVENT
DTSTART;TZID=Europe/Istanbul:20240518T120000
DTEND;TZID=Europe/Istanbul:20240519T233000
DTSTAMP:20260423T113647
CREATED:20240515T133014Z
LAST-MODIFIED:20240515T133014Z
UID:10003688-1716033600-1716161400@festtr.com
SUMMARY:Çankaya Gençlik Festivali
DESCRIPTION:Çankaya Belediyesi tarafından düzenlenen Gençlik Festivali 18-19 Mayıs’ta Ankara’da.
URL:https://festtr.com/festival/cankaya-genclik-festivali/
LOCATION:Ankara\, Ankara\, Türkiye
CATEGORIES:Ankara Festivalleri,Gençlik Festivali,Müzik Festivali,Ücretsiz
ATTACH;FMTTYPE=image/jpeg:https://festtr.com/wp-content/uploads/sil-14.05.2024-16-18-09.jpg
END:VEVENT
BEGIN:VEVENT
DTSTART;TZID=Europe/Istanbul:20240517T120000
DTEND;TZID=Europe/Istanbul:20240525T233000
DTSTAMP:20260423T113647
CREATED:20240518T133016Z
LAST-MODIFIED:20240518T133659Z
UID:10003693-1715947200-1716679800@festtr.com
SUMMARY:İBB Gençlik Konserleri
DESCRIPTION:İBB Gençlik Konserleri Maletepe Etkinlik Alanı’nda sizlerle.
URL:https://festtr.com/festival/ibb-genclik-konserleri/
LOCATION:Maltepe Etkinlik Alanı\, Yalı\, Sahilyolu Caddesi\, 34844 Maltepe\, İstanbul\, Maltepe\, Türkiye
CATEGORIES:Gençlik Festivali,İstanbul Festivalleri,Müzik Festivali,Ücretsiz
ATTACH;FMTTYPE=image/jpeg:https://festtr.com/wp-content/uploads/sil-18.05.2024-16-29-18.jpg
END:VEVENT
BEGIN:VEVENT
DTSTART;TZID=Europe/Istanbul:20240516T120000
DTEND;TZID=Europe/Istanbul:20240518T233000
DTSTAMP:20260423T113647
CREATED:20220504T234529Z
LAST-MODIFIED:20240507T071636Z
UID:10002788-1715860800-1716075000@festtr.com
SUMMARY:Ankara Üniversitesi Bahar ve Bilim Şenliği
DESCRIPTION:Ankara Üniversitesi Bahar ve Bilim Şenliği 16-18 Mayıs tarihlerinde Ankara Üniversitesi Güneş Meydanı’nda.
URL:https://festtr.com/festival/ankara-universitesi-bahar-ve-bilim-senligi/
LOCATION:Ankara\, Ankara\, Türkiye
CATEGORIES:Ankara Festivalleri,Bilim Festivali,Gençlik Festivali
ATTACH;FMTTYPE=image/jpeg:https://festtr.com/wp-content/uploads/au-bahar-senligi-6.05.2024-17-38-39.jpg
END:VEVENT
BEGIN:VEVENT
DTSTART;VALUE=DATE:20240420
DTEND;VALUE=DATE:20240423
DTSTAMP:20260423T113647
CREATED:20240316T000633Z
LAST-MODIFIED:20240404T185937Z
UID:10003009-1713578400-1713751199@festtr.com
SUMMARY:Feel The Fest Malatya
DESCRIPTION:Feel The Fest Müzik Festivali 20 – 21 Nisan tarihlerinde Anemon Otel Malatya sahnesinde!
URL:https://festtr.com/festival/feel-the-fest-malatya/
LOCATION:Malatya\, Malatya\, Malatya\, Türkiye
CATEGORIES:❤ İndirimli Festivaller,Malatya Festivalleri,Müzik Festivali
ATTACH;FMTTYPE=image/jpeg:https://festtr.com/wp-content/uploads/sil-16.03.2024-03-03-54.jpg
GEO:38.394013;38.347593
X-APPLE-STRUCTURED-LOCATION;VALUE=URI;X-ADDRESS=Malatya Malatya Malatya Türkiye;X-APPLE-RADIUS=500;X-TITLE=Malatya:geo:38.347593,38.394013
END:VEVENT
BEGIN:VEVENT
DTSTART;VALUE=DATE:20240420
DTEND;VALUE=DATE:20240423
DTSTAMP:20260423T113647
CREATED:20240315T235741Z
LAST-MODIFIED:20240404T185413Z
UID:10003008-1713578400-1713751199@festtr.com
SUMMARY:Feel The Fest Kayseri
DESCRIPTION:Feel The Fest Müzik Festivali 20 – 21 Nisan tarihlerinde Wyndham Kayseri sahnesinde!
URL:https://festtr.com/festival/feel-the-fest-kayseri/
LOCATION:Kayseri\, Kayseri\, Kayseri\, Türkiye
CATEGORIES:❤ İndirimli Festivaller,Kayseri Festivalleri,Müzik Festivali
ATTACH;FMTTYPE=image/jpeg:https://festtr.com/wp-content/uploads/sil-16.03.2024-02-46-52.jpg
GEO:38.719734;35.483912
X-APPLE-STRUCTURED-LOCATION;VALUE=URI;X-ADDRESS=Kayseri Kayseri Kayseri Türkiye;X-APPLE-RADIUS=500;X-TITLE=Kayseri:geo:35.483912,38.719734
END:VEVENT
BEGIN:VEVENT
DTSTART;VALUE=DATE:20240417
DTEND;VALUE=DATE:20240420
DTSTAMP:20260423T113647
CREATED:20240315T234438Z
LAST-MODIFIED:20240404T154916Z
UID:10003006-1713319200-1713491999@festtr.com
SUMMARY:Feel The Fest Mersin
DESCRIPTION:Feel The Fest Müzik Festivali 17 – 18 Nisan tarihlerinde Marehan Convention Center sahnesinde!
URL:https://festtr.com/festival/feel-the-fest-mersin/
LOCATION:Marehan Convention Center\, Pirireis\, İsmet İnönü Blv. No.37\, Mersin\, Yenişehir\, 33050\, Türkiye
CATEGORIES:❤ İndirimli Festivaller,Mersin Festivalleri,Müzik Festivali
ATTACH;FMTTYPE=image/jpeg:https://festtr.com/wp-content/uploads/sil-16.03.2024-02-41-01.jpg
END:VEVENT
END:VCALENDAR