BEGIN:VCALENDAR
VERSION:2.0
PRODID:-//FestTR - ECPv6.15.20//NONSGML v1.0//EN
CALSCALE:GREGORIAN
METHOD:PUBLISH
X-WR-CALNAME:FestTR
X-ORIGINAL-URL:https://festtr.com
X-WR-CALDESC:FestTR için etkinlikler
REFRESH-INTERVAL;VALUE=DURATION:PT1H
X-Robots-Tag:noindex
X-PUBLISHED-TTL:PT1H
BEGIN:VTIMEZONE
TZID:Europe/Istanbul
BEGIN:STANDARD
TZOFFSETFROM:+0300
TZOFFSETTO:+0300
TZNAME:+03
DTSTART:20230101T000000
END:STANDARD
END:VTIMEZONE
BEGIN:VEVENT
DTSTART;TZID=Europe/Istanbul:20250530T120000
DTEND;TZID=Europe/Istanbul:20250601T233000
DTSTAMP:20260423T160554
CREATED:20220526T225722Z
LAST-MODIFIED:20250520T223626Z
UID:10002814-1748606400-1748820600@festtr.com
SUMMARY:Isparta Gül Festivali
DESCRIPTION:Isparta Uluslararası Gül Festivali 30 Mayıs-1 Haziran’da sizlerle buluşuyor.
URL:https://festtr.com/festival/isparta-gul-festivali/
LOCATION:Isparta\, Isparta\, Türkiye
CATEGORIES:Isparta Festivalleri,Kültür Festivali,Ücretsiz
ATTACH;FMTTYPE=image/jpeg:https://festtr.com/wp-content/uploads/isparta-gul-7.05.2024-11-31-04.jpg
GEO:37.762659;30.553942
END:VEVENT
BEGIN:VEVENT
DTSTART;TZID=Europe/Istanbul:20240826T120000
DTEND;TZID=Europe/Istanbul:20240829T230000
DTSTAMP:20260423T160554
CREATED:20190828T062634Z
LAST-MODIFIED:20240818T023552Z
UID:10002869-1724673600-1724972400@festtr.com
SUMMARY:Uluslararası ZurnaZen Festivali
DESCRIPTION:Muğla Büyükşehir Belediyesi tarafından bu yıl 9. kez düzenlenecek olan Uluslararası ZurnaZen Festivali 26-29 Ağustos tarihleri arasında yapılacak.
URL:https://festtr.com/festival/uluslararasi-zurnazen-festivali/
LOCATION:Muğla\, Muğla\, Türkiye
CATEGORIES:Muğla Festivalleri,Müzik Festivali,Ücretsiz
ATTACH;FMTTYPE=image/jpeg:https://festtr.com/wp-content/uploads/zurnazen-01.09.2021-03-12-10.jpg
GEO:37.191924;28.353782
END:VEVENT
BEGIN:VEVENT
DTSTART;TZID=Europe/Istanbul:20240627T120000
DTEND;TZID=Europe/Istanbul:20240630T233000
DTSTAMP:20260423T160554
CREATED:20240628T015654Z
LAST-MODIFIED:20240628T015736Z
UID:10004091-1719489600-1719790200@festtr.com
SUMMARY:Tunceli Motofest
DESCRIPTION:Tunceli Motofest başlıyor.
URL:https://festtr.com/festival/tunceli-motofest/
LOCATION:Tunceli\, Türkiye
CATEGORIES:Motosiklet Festivali,Tunceli Festivalleri,Ücretsiz
ATTACH;FMTTYPE=image/jpeg:https://festtr.com/wp-content/uploads/sil-28.06.2024-04-53-42.jpg
GEO:39.048269;39.512957
END:VEVENT
END:VCALENDAR