BEGIN:VCALENDAR
VERSION:2.0
PRODID:-//FestTR - ECPv6.15.20//NONSGML v1.0//EN
CALSCALE:GREGORIAN
METHOD:PUBLISH
X-WR-CALNAME:FestTR
X-ORIGINAL-URL:https://festtr.com
X-WR-CALDESC:FestTR için etkinlikler
REFRESH-INTERVAL;VALUE=DURATION:PT1H
X-Robots-Tag:noindex
X-PUBLISHED-TTL:PT1H
BEGIN:VTIMEZONE
TZID:Europe/Istanbul
BEGIN:STANDARD
TZOFFSETFROM:+0300
TZOFFSETTO:+0300
TZNAME:+03
DTSTART:20230101T000000
END:STANDARD
END:VTIMEZONE
BEGIN:VEVENT
DTSTART;TZID=Europe/Istanbul:20240918T120000
DTEND;TZID=Europe/Istanbul:20240923T233000
DTSTAMP:20260420T114738
CREATED:20240903T234322Z
LAST-MODIFIED:20240915T223233Z
UID:10004187-1726660800-1727134200@festtr.com
SUMMARY:Denizli Caz Festivali
DESCRIPTION:4. Denizli Caz Festivali “Laodikya’nın Işığı”na hoş geldiniz! 18-23 Eylül tarihleri arasında\, şehrimizin farklı köşelerinde cazın eşsiz tınıları yankılanacak. Birbirinden yetenekli sanatçılarla dolu bu festivalde Denizli caz müziğine doyacak. Tüm müzikseverleri bekliyoruz ! \n•Tarih: 18-23 Eylül ‘24\n•Biletler 2.09.24’te biletix’te !\n•whatsapp : 0(554) 895 20 20
URL:https://festtr.com/festival/denizli-caz-festivali/
LOCATION:Denizli\, Denizli\, Türkiye
CATEGORIES:Denizli Festivalleri,Müzik Festivali
ATTACH;FMTTYPE=image/jpeg:https://festtr.com/wp-content/uploads/sil-4.09.2024-02-42-32.jpg
GEO:37.782452;29.096066
END:VEVENT
BEGIN:VEVENT
DTSTART;TZID=Europe/Istanbul:20240831T190000
DTEND;TZID=Europe/Istanbul:20240901T233000
DTSTAMP:20260420T114738
CREATED:20200805T001908Z
LAST-MODIFIED:20240826T185214Z
UID:10003158-1725130800-1725233400@festtr.com
SUMMARY:Burgazada Caz Festivali
DESCRIPTION:Burgazada Caz Günleri 4. yılında\, 31 Ağustos ve 1 Eylül günlerinde Cennet Bahçesi’nde caz severlerle buluşuyor. \nBurgazada’nın gelenekselleşen Caz Festivali “Burgazada Caz Günleri” bu sene de dinleyenleri mest edecek. Şehirden uzak Burgazada’nın eşsiz atmosferinde gerçekleşecek bu özel organizasyon için yerinizi şimdiden ayırın.
URL:https://festtr.com/festival/burgazada-festivali/
LOCATION:Burgazada\, Burgazada\, İstanbul\, Türkiye
CATEGORIES:İstanbul Festivalleri,Müzik Festivali,Popüler
ATTACH;FMTTYPE=image/jpeg:https://festtr.com/wp-content/uploads/sil-24.08.2024-04-33-28.jpg
END:VEVENT
END:VCALENDAR