BEGIN:VCALENDAR
VERSION:2.0
PRODID:-//FestTR - ECPv6.15.20//NONSGML v1.0//EN
CALSCALE:GREGORIAN
METHOD:PUBLISH
X-ORIGINAL-URL:https://festtr.com
X-WR-CALDESC:FestTR için etkinlikler
REFRESH-INTERVAL;VALUE=DURATION:PT1H
X-Robots-Tag:noindex
X-PUBLISHED-TTL:PT1H
BEGIN:VTIMEZONE
TZID:Europe/Istanbul
BEGIN:STANDARD
TZOFFSETFROM:+0300
TZOFFSETTO:+0300
TZNAME:+03
DTSTART:20230101T000000
END:STANDARD
END:VTIMEZONE
BEGIN:VEVENT
DTSTART;TZID=Europe/Istanbul:20250910T210000
DTEND;TZID=Europe/Istanbul:20250917T233000
DTSTAMP:20260421T155833
CREATED:20220816T221755Z
LAST-MODIFIED:20250824T001419Z
UID:10003445-1757538000-1758151800@festtr.com
SUMMARY:Moto Fest On The Road
DESCRIPTION:Moto Fest On The Road motorseverlerle buluşuyor.
URL:https://festtr.com/festival/moto-fest-on-the-road/
LOCATION:Ankara\, Ankara\, Türkiye
CATEGORIES:❤ İndirimli Festivaller,Ankara Festivalleri,İzmir Festivalleri,Mersin Festivalleri,Motosiklet Festivali,Muğla Festivalleri
ATTACH;FMTTYPE=image/jpeg:https://festtr.com/wp-content/uploads/motosiklet-14.10.2020-02-50-14.jpg
END:VEVENT
BEGIN:VEVENT
DTSTART;TZID=Europe/Istanbul:20240809T210000
DTEND;TZID=Europe/Istanbul:20240811T233000
DTSTAMP:20260421T155833
CREATED:20190730T103919Z
LAST-MODIFIED:20240801T180321Z
UID:10002780-1723237200-1723419000@festtr.com
SUMMARY:Yenicekent Sultaniye Çekirdeksiz Üzüm Festivali
DESCRIPTION:27. Buldan Yenicekent Tripolis Kültür ve Turfanda Sultaniye Çekirdeksiz Üzüm Festivali Ağustos ayında yapılacak.
URL:https://festtr.com/festival/buldan-yenicekent-uzum-festivali/
LOCATION:Buldan\, Buldan\, Denizli\, Türkiye
CATEGORIES:Denizli Festivalleri,Kültür Festivali,Ücretsiz,Yiyecek-İçecek Festivali,Yöresel Festival,Yöresel Ürünler Festivali
ATTACH;FMTTYPE=image/jpeg:https://festtr.com/wp-content/uploads/sultaniye-cekirdeksiz-uzum-1.08.2024-21-00-22.jpg
END:VEVENT
END:VCALENDAR