BEGIN:VCALENDAR
VERSION:2.0
PRODID:-//FestTR - ECPv6.15.20//NONSGML v1.0//EN
CALSCALE:GREGORIAN
METHOD:PUBLISH
X-WR-CALNAME:FestTR
X-ORIGINAL-URL:https://festtr.com
X-WR-CALDESC:FestTR için etkinlikler
REFRESH-INTERVAL;VALUE=DURATION:PT1H
X-Robots-Tag:noindex
X-PUBLISHED-TTL:PT1H
BEGIN:VTIMEZONE
TZID:Europe/Istanbul
BEGIN:STANDARD
TZOFFSETFROM:+0300
TZOFFSETTO:+0300
TZNAME:+03
DTSTART:20230101T000000
END:STANDARD
END:VTIMEZONE
BEGIN:VEVENT
DTSTART;TZID=Europe/Istanbul:20250518T120000
DTEND;TZID=Europe/Istanbul:20250602T230000
DTSTAMP:20260420T094006
CREATED:20181213T202253Z
LAST-MODIFIED:20250520T233221Z
UID:10002311-1747569600-1748905200@festtr.com
SUMMARY:Akhisar Çağlak Festivali
DESCRIPTION:Akhisar Çağlak Festivali\, Manisa’nın Akhisar ilçesinde her yıl Mayıs ayında düzenlenen geleneksel bir festivaldir. \nUNESCO’nun Somut Olmayan Kültürel Miraslar Listesi’nde yer alan ve bu yıl 566. kez coşkuyla kutlayacağımız\, Türkiye’nin en köklü festivallerinden Akhisar Çağlak Festivali başlıyor! \nTarih\, kültür ve eğlencenin bir araya geldiği; konserlerden tiyatrolara\, spor etkinliklerinden kültürel buluşmalara kadar dopdolu bir programla hazırlanan bu büyük festivale tüm halkımızı davet ediyoruz.
URL:https://festtr.com/festival/akhisar-caglak-festivali/
LOCATION:Manisa\, Manisa\, Türkiye
CATEGORIES:Kültür Festivali,Manisa Festivalleri,Ücretsiz,Yöresel Festival
ATTACH;FMTTYPE=image/jpeg:https://festtr.com/wp-content/uploads/caglak-festivali-12.05.2024-04-19-49.jpg
GEO:38.613369;27.429867
END:VEVENT
BEGIN:VEVENT
DTSTART;TZID=Europe/Istanbul:20240826T120000
DTEND;TZID=Europe/Istanbul:20240829T230000
DTSTAMP:20260420T094006
CREATED:20190828T062634Z
LAST-MODIFIED:20240818T023552Z
UID:10002869-1724673600-1724972400@festtr.com
SUMMARY:Uluslararası ZurnaZen Festivali
DESCRIPTION:Muğla Büyükşehir Belediyesi tarafından bu yıl 9. kez düzenlenecek olan Uluslararası ZurnaZen Festivali 26-29 Ağustos tarihleri arasında yapılacak.
URL:https://festtr.com/festival/uluslararasi-zurnazen-festivali/
LOCATION:Muğla\, Muğla\, Türkiye
CATEGORIES:Muğla Festivalleri,Müzik Festivali,Ücretsiz
ATTACH;FMTTYPE=image/jpeg:https://festtr.com/wp-content/uploads/zurnazen-01.09.2021-03-12-10.jpg
GEO:37.191924;28.353782
END:VEVENT
END:VCALENDAR