BEGIN:VCALENDAR
VERSION:2.0
PRODID:-//FestTR - ECPv6.15.20//NONSGML v1.0//EN
CALSCALE:GREGORIAN
METHOD:PUBLISH
X-ORIGINAL-URL:https://festtr.com
X-WR-CALDESC:FestTR için etkinlikler
REFRESH-INTERVAL;VALUE=DURATION:PT1H
X-Robots-Tag:noindex
X-PUBLISHED-TTL:PT1H
BEGIN:VTIMEZONE
TZID:Europe/Istanbul
BEGIN:STANDARD
TZOFFSETFROM:+0300
TZOFFSETTO:+0300
TZNAME:+03
DTSTART:20230101T000000
END:STANDARD
END:VTIMEZONE
BEGIN:VEVENT
DTSTART;TZID=Europe/Istanbul:20250630T120000
DTEND;TZID=Europe/Istanbul:20250701T233000
DTSTAMP:20260419T191253
CREATED:20250629T224508Z
LAST-MODIFIED:20250629T224653Z
UID:10004353-1751284800-1751412600@festtr.com
SUMMARY:Likya Deniz Bayramı Festivali
DESCRIPTION:Likya Deniz Bayramı Festivali 30 Haziran 2025 tarihinde başlayacak.
URL:https://festtr.com/festival/likya-deniz-bayrami-festivali/
LOCATION:Antalya\, Antalya\, Antalya\, Türkiye
CATEGORIES:Antalya Festivalleri,Ücretsiz,Yöresel Festival
ATTACH;FMTTYPE=image/jpeg:https://festtr.com/wp-content/uploads/demre-deniz-likya-30.06.2025-01-46-16.jpg
GEO:36.888245;30.70711
X-APPLE-STRUCTURED-LOCATION;VALUE=URI;X-ADDRESS=Antalya Antalya Antalya Türkiye;X-APPLE-RADIUS=500;X-TITLE=Antalya:geo:30.70711,36.888245
END:VEVENT
BEGIN:VEVENT
DTSTART;TZID=Europe/Istanbul:20250530T120000
DTEND;TZID=Europe/Istanbul:20250601T233000
DTSTAMP:20260419T191253
CREATED:20220526T225722Z
LAST-MODIFIED:20250520T223626Z
UID:10002814-1748606400-1748820600@festtr.com
SUMMARY:Isparta Gül Festivali
DESCRIPTION:Isparta Uluslararası Gül Festivali 30 Mayıs-1 Haziran’da sizlerle buluşuyor.
URL:https://festtr.com/festival/isparta-gul-festivali/
LOCATION:Isparta\, Isparta\, Türkiye
CATEGORIES:Isparta Festivalleri,Kültür Festivali,Ücretsiz
ATTACH;FMTTYPE=image/jpeg:https://festtr.com/wp-content/uploads/isparta-gul-7.05.2024-11-31-04.jpg
GEO:37.762659;30.553942
END:VEVENT
BEGIN:VEVENT
DTSTART;TZID=Europe/Istanbul:20240906T120000
DTEND;TZID=Europe/Istanbul:20240908T233000
DTSTAMP:20260419T191253
CREATED:20180917T032645Z
LAST-MODIFIED:20240905T155234Z
UID:10001914-1725624000-1725838200@festtr.com
SUMMARY:Orhaneli Karagöz Festivali
DESCRIPTION:Bursa’nın Orhaneli ilçe belediyesi tarafından düzenlenecek Orhaneli Karagöz Festivali ve Kurtuluş Şenlikleri sizlerle buluşuyor. \nOrhaneli Karagöz Festivali ve Kurtuluş Şenliklerine tüm hemşehrilerimizi bekliyoruz. 🎉🎶 \n06-07-08-09 Eylül 2024📢 \n📌 Festival alanına girişler ve konserler ücretsizdir. \n📌 Festival alanında mangal ve semaver ateşi yakılabilecektir.
URL:https://festtr.com/festival/orhaneli-karagoz-festivali/
LOCATION:Bursa\, Bursa\, Bursa\, Türkiye
CATEGORIES:Bursa Festivalleri,Şenlik,Ücretsiz
ATTACH;FMTTYPE=image/jpeg:https://festtr.com/wp-content/uploads/karagoz-hacivat-03.11.2020-23-42-49.jpg
GEO:40.2215936;28.8922054
X-APPLE-STRUCTURED-LOCATION;VALUE=URI;X-ADDRESS=Bursa Bursa Bursa Türkiye;X-APPLE-RADIUS=500;X-TITLE=Bursa:geo:28.8922054,40.2215936
END:VEVENT
BEGIN:VEVENT
DTSTART;TZID=Europe/Istanbul:20240905T120000
DTEND;TZID=Europe/Istanbul:20240908T233000
DTSTAMP:20260419T191253
CREATED:20240905T152735Z
LAST-MODIFIED:20240905T152818Z
UID:10004194-1725537600-1725838200@festtr.com
SUMMARY:Havsa Tarım Aletleri ve Hayvancılık Festivali
DESCRIPTION:23. Tarım Aletleri Ve Hayvancılık Festivali başlıyor!
URL:https://festtr.com/festival/havsa-tarim-festivali/
LOCATION:Edirne\, Edirne\, Türkiye
CATEGORIES:Edirne Festivalleri,Kültür Festivali,Ücretsiz,Yöresel Festival
ATTACH;FMTTYPE=image/jpeg:https://festtr.com/wp-content/uploads/tarim-bugday-5.09.2024-18-25-12.jpg
GEO:41.6688702;26.538305
END:VEVENT
BEGIN:VEVENT
DTSTART;TZID=Europe/Istanbul:20240810T120000
DTEND;TZID=Europe/Istanbul:20240907T233000
DTSTAMP:20260419T191253
CREATED:20240812T222659Z
LAST-MODIFIED:20240812T223304Z
UID:10004130-1723291200-1725751800@festtr.com
SUMMARY:Kepez Kültür Festivali
DESCRIPTION:Kepez Kültür Festivali 10 Ağustos’ta başlıyor.
URL:https://festtr.com/festival/kepez-kultur-festivali/
LOCATION:Kepez\, Kepez\, Antalya\, Türkiye
CATEGORIES:Antalya Festivalleri,Kültür Festivali,Müzik Festivali,Ücretsiz
ATTACH;FMTTYPE=image/jpeg:https://festtr.com/wp-content/uploads/sil-10.08.2024-08-22-58.jpg
END:VEVENT
END:VCALENDAR