BEGIN:VCALENDAR
VERSION:2.0
PRODID:-//FestTR - ECPv6.15.20//NONSGML v1.0//EN
CALSCALE:GREGORIAN
METHOD:PUBLISH
X-ORIGINAL-URL:https://festtr.com
X-WR-CALDESC:FestTR için etkinlikler
REFRESH-INTERVAL;VALUE=DURATION:PT1H
X-Robots-Tag:noindex
X-PUBLISHED-TTL:PT1H
BEGIN:VTIMEZONE
TZID:Europe/Istanbul
BEGIN:STANDARD
TZOFFSETFROM:+0300
TZOFFSETTO:+0300
TZNAME:+03
DTSTART:20240101T000000
END:STANDARD
END:VTIMEZONE
BEGIN:VEVENT
DTSTART;TZID=Europe/Istanbul:20250221T120000
DTEND;TZID=Europe/Istanbul:20250223T233000
DTSTAMP:20260421T143517
CREATED:20181028T044135Z
LAST-MODIFIED:20250114T224250Z
UID:10002212-1740139200-1740353400@festtr.com
SUMMARY:Icebreak Palandöken
DESCRIPTION:Icebreak 21-23 Şubat tarihleri arasında Palandöken’de gerçekleşecek.
URL:https://festtr.com/festival/icebreak-palandoken/
LOCATION:Erzurum\, Erzurum\, Türkiye
CATEGORIES:❤ İndirimli Festivaller,Alternatif Festival,Erzurum Festivalleri,Müzik Festivali
ATTACH;FMTTYPE=image/jpeg:https://festtr.com/wp-content/uploads/ud_icebreak-15.01.2025-01-39-55.jpg
GEO:39.904877;41.267629
END:VEVENT
END:VCALENDAR