BEGIN:VCALENDAR
VERSION:2.0
PRODID:-//FestTR - ECPv6.15.20//NONSGML v1.0//EN
CALSCALE:GREGORIAN
METHOD:PUBLISH
X-ORIGINAL-URL:https://festtr.com
X-WR-CALDESC:FestTR için etkinlikler
REFRESH-INTERVAL;VALUE=DURATION:PT1H
X-Robots-Tag:noindex
X-PUBLISHED-TTL:PT1H
BEGIN:VTIMEZONE
TZID:Europe/Istanbul
BEGIN:STANDARD
TZOFFSETFROM:+0300
TZOFFSETTO:+0300
TZNAME:+03
DTSTART:20230101T000000
END:STANDARD
END:VTIMEZONE
BEGIN:VEVENT
DTSTART;TZID=Europe/Istanbul:20250905T120000
DTEND;TZID=Europe/Istanbul:20250907T233000
DTSTAMP:20260420T182106
CREATED:20240806T020021Z
LAST-MODIFIED:20250823T232637Z
UID:10004109-1757073600-1757287800@festtr.com
SUMMARY:Çal Bağbozumu Kültür ve Sanat Festivali
DESCRIPTION:28. Çal Bağbozumu Kültür ve Sanat Festivali 5-7 Eylül tarihlerinde Denizli Çal’da…
URL:https://festtr.com/festival/cal-bagbozumu-festivali/
LOCATION:Denizli\, Denizli\, Türkiye
CATEGORIES:Denizli Festivalleri,Kültür Festivali,Sanat Festivali,Ücretsiz,Yöresel Ürünler Festivali
ATTACH;FMTTYPE=image/jpeg:https://festtr.com/wp-content/uploads/cal-uzum-calkarasi-6.08.2024-04-54-06.jpg
GEO:37.782452;29.096066
END:VEVENT
BEGIN:VEVENT
DTSTART;TZID=Europe/Istanbul:20240830T120000
DTEND;TZID=Europe/Istanbul:20240901T233000
DTSTAMP:20260420T182106
CREATED:20210830T012731Z
LAST-MODIFIED:20240827T201053Z
UID:10003301-1725019200-1725233400@festtr.com
SUMMARY:Yenice Barış ve Kültür Festivali
DESCRIPTION:Yenice Barış ve Kültür Festivali 30-31 Ağustos ve 1 Eylül tarihlerinde Mersin Tarsus Yenice’de…
URL:https://festtr.com/festival/yenice-baris-ve-kultur-festivali/
LOCATION:Mersin\, Mersin\, Türkiye
CATEGORIES:Kültür Festivali,Mersin Festivalleri,Ücretsiz
ATTACH;FMTTYPE=image/jpeg:https://festtr.com/wp-content/uploads/sil-27.08.2024-23-06-55.jpg
GEO:36.859359;34.64496
END:VEVENT
END:VCALENDAR