BEGIN:VCALENDAR
VERSION:2.0
PRODID:-//FestTR - ECPv6.15.20//NONSGML v1.0//EN
CALSCALE:GREGORIAN
METHOD:PUBLISH
X-WR-CALNAME:FestTR
X-ORIGINAL-URL:https://festtr.com
X-WR-CALDESC:FestTR için etkinlikler
REFRESH-INTERVAL;VALUE=DURATION:PT1H
X-Robots-Tag:noindex
X-PUBLISHED-TTL:PT1H
BEGIN:VTIMEZONE
TZID:Europe/Istanbul
BEGIN:STANDARD
TZOFFSETFROM:+0300
TZOFFSETTO:+0300
TZNAME:+03
DTSTART:20230101T000000
END:STANDARD
END:VTIMEZONE
BEGIN:VEVENT
DTSTART;TZID=Europe/Istanbul:20250825T120000
DTEND;TZID=Europe/Istanbul:20250831T233000
DTSTAMP:20260415T212916
CREATED:20240816T201217Z
LAST-MODIFIED:20250821T134136Z
UID:10004155-1756123200-1756683000@festtr.com
SUMMARY:Saray Geleneksel Kültür Sanat ve Barış Festivali
DESCRIPTION:Tekirdağ’ın şirin ilçesi Saray’da düzenlenen 15. Geleneksel Kültür\, Sanat ve Barış Festivali sizlerle…
URL:https://festtr.com/festival/saray-baris-festivali/
LOCATION:Tekirdağ\, Tekirdağ\, Türkiye
CATEGORIES:Kültür Festivali,Sanat Festivali,Tekirdağ Festivalleri,Ücretsiz
ATTACH;FMTTYPE=image/jpeg:https://festtr.com/wp-content/uploads/abdul.tasyasan_1754642685_3694533077623646904_64886200586-21.08.2025-16-40-02.jpg
GEO:40.978321;27.512373
END:VEVENT
BEGIN:VEVENT
DTSTART;TZID=Europe/Istanbul:20250530T120000
DTEND;TZID=Europe/Istanbul:20250601T233000
DTSTAMP:20260415T212916
CREATED:20250523T022604Z
LAST-MODIFIED:20250523T022604Z
UID:10004340-1748606400-1748820600@festtr.com
SUMMARY:Nilüfer Karadeniz Festivali
DESCRIPTION:Nilüfer Karadeniz Festivali sizlerle buluşuyor.
URL:https://festtr.com/festival/nilufer-karadeniz-festivali/
LOCATION:Bursa\, Bursa\, Bursa\, Türkiye
CATEGORIES:Bursa Festivalleri,Kültür Festivali,Ücretsiz,Yöresel Festival
ATTACH;FMTTYPE=image/jpeg:https://festtr.com/wp-content/uploads/karadeniz_mutfagi-23.05.2025-05-25-09.jpg
GEO:40.2215936;28.8922054
X-APPLE-STRUCTURED-LOCATION;VALUE=URI;X-ADDRESS=Bursa Bursa Bursa Türkiye;X-APPLE-RADIUS=500;X-TITLE=Bursa:geo:28.8922054,40.2215936
END:VEVENT
BEGIN:VEVENT
DTSTART;TZID=Europe/Istanbul:20241011T120000
DTEND;TZID=Europe/Istanbul:20241013T230000
DTSTAMP:20260415T212916
CREATED:20210625T005231Z
LAST-MODIFIED:20241011T221724Z
UID:10002642-1728648000-1728860400@festtr.com
SUMMARY:GastroRize Festivali
DESCRIPTION:Yeşili mavi ile buluşturan\, tarihi kaleleri\, evleri\, şelaleleri ve yemeklerinin yanı sıra geniş kültürel çeşitliliği ve zengin gastronomi mutfağı ile de sevilen Rize’de gerçekleşecek olan GastroRize Festivaline sizleri de bekliyoruz.
URL:https://festtr.com/festival/gastrorize-festivali/
LOCATION:Rize\, Rize\, Türkiye
CATEGORIES:Gastronomi Festivali,Rize Festivalleri,Yiyecek-İçecek Festivali
ATTACH;FMTTYPE=image/jpeg:https://festtr.com/wp-content/uploads/gastrorize-cay-25.06.2021-03-51-18.jpg
GEO:41.025608;40.517765
END:VEVENT
BEGIN:VEVENT
DTSTART;TZID=Europe/Istanbul:20241010T110000
DTEND;TZID=Europe/Istanbul:20241013T233000
DTSTAMP:20260415T212916
CREATED:20200221T183142Z
LAST-MODIFIED:20241001T185754Z
UID:10002499-1728558000-1728862200@festtr.com
SUMMARY:Konya Kahve ve Çikolata Festivali
DESCRIPTION:Konya Kahve ve Çikolata Festivali Ekim ayında Selçuklu Kongre Merkezi’nde tüm kahve ve çikolata severleri ağırlayacak.
URL:https://festtr.com/festival/konya-kahve-ve-cikolata-festivali/
LOCATION:Konya\, Konya\, Konya\, Türkiye
CATEGORIES:Konya Festivalleri,Yiyecek-İçecek Festivali
ATTACH;FMTTYPE=image/jpeg:https://festtr.com/wp-content/uploads/kahve-cikolata-20.05.2022-01-40-39.jpg
GEO:37.873743;32.498231
X-APPLE-STRUCTURED-LOCATION;VALUE=URI;X-ADDRESS=Konya Konya Konya Türkiye;X-APPLE-RADIUS=500;X-TITLE=Konya:geo:32.498231,37.873743
END:VEVENT
BEGIN:VEVENT
DTSTART;TZID=Europe/Istanbul:20240816T120000
DTEND;TZID=Europe/Istanbul:20240825T233000
DTSTAMP:20260415T212916
CREATED:20240816T153735Z
LAST-MODIFIED:20240816T153735Z
UID:10004154-1723809600-1724628600@festtr.com
SUMMARY:Yeniboğaziçi Pulya Festivali
DESCRIPTION:13.⁠ ⁠Yeniboğaziçi Pulya Festivali & 4. Uluslararası Halk Dansları Festivali başlıyor. \n16 Ağustos-25 Ağustos tarihleri arasında yapılacak olan heyecanla beklenen festivalimiz yurtiçinden ve yurt dışından onlarca sanatçıyı ağırlayacak.
URL:https://festtr.com/festival/yenibogazici-pulya-festivali/
LOCATION:Kıbrıs\, Kıbrıs\, Cyprus
CATEGORIES:Dans Festivali,Kıbrıs Festivalleri,Kültür Festivali,Müzik Festivali,Sanat Festivali,Yöresel Festival
ATTACH;FMTTYPE=image/jpeg:https://festtr.com/wp-content/uploads/pulya-16.08.2024-18-33-41.jpg
GEO:35.196318;33.715891
X-APPLE-STRUCTURED-LOCATION;VALUE=URI;X-ADDRESS=Kıbrıs Kıbrıs Cyprus;X-APPLE-RADIUS=500;X-TITLE=Kıbrıs:geo:33.715891,35.196318
END:VEVENT
BEGIN:VEVENT
DTSTART;VALUE=DATE:20240725
DTEND;VALUE=DATE:20240730
DTSTAMP:20260415T212916
CREATED:20240406T043315Z
LAST-MODIFIED:20240704T231917Z
UID:10003619-1721876400-1722221999@festtr.com
SUMMARY:Festivalde Kal Kocaeli Müzik Festivali
DESCRIPTION:Kendi hikayesinin kahramanı olmak isteyen gençler için! \n25-26-27-28 Temmuz tarihlerinde Seyrek Kandıra Patagonya World’de buluşuyoruz. \nTüm gün sürecek birbirinden muhteşem sahne üzeri gösteriler\, canlı müzik konserleri ve DJ performansları\, Keşfedilecek yeni hayatlar\, teknolojik yenilikler\, birbirinden heyecanlı spor müsabakaları\, ilham veren workshoplar\, birbirinden farklı sosyal sorumluluk projeleri\, Zumba\, Plates ve Yoga ile ruhunuzu dinlendirecek etkinlikler\, Edinilecek yeni deneyimlerle\, çadır ve karavan hayatının vazgeçilmez maceracı ruhunu ve unutulmayacak güzel anıları tüm müziksever gençlerle buluşturmak için Türkiye’nin en kapsamlı gençlik ve müzik festivali; “Festival’de Kal!”
URL:https://festtr.com/festival/festivalde-kal/
LOCATION:Kocaeli\, Kocaeli\, Türkiye
CATEGORIES:❤ İndirimli Festivaller,Kocaeli Festivalleri,Müzik Festivali
ATTACH;FMTTYPE=image/jpeg:https://festtr.com/wp-content/uploads/sil-6.04.2024-07-31-25.jpg
GEO:40.834389;29.902357
END:VEVENT
BEGIN:VEVENT
DTSTART;TZID=Europe/Istanbul:20240724T120000
DTEND;TZID=Europe/Istanbul:20240728T230000
DTSTAMP:20260415T212916
CREATED:20190701T135809Z
LAST-MODIFIED:20240724T011626Z
UID:10002271-1721822400-1722207600@festtr.com
SUMMARY:Uluslararası Beyşehir Göl Festivali
DESCRIPTION:Konya’nın Beyşehir ilçesinde bu yıl 17. Uluslararası Beyşehir Göl Festivali 24-28 Temmuz tarihleri arasında yapılacak.
URL:https://festtr.com/festival/uluslararasi-beysehir-gol-festivali/
LOCATION:Beyşehir\, Beyşehir\, Konya\, Türkiye
CATEGORIES:Konya Festivalleri,Kültür Festivali,Şenlik,Ücretsiz,Yöresel Festival
ATTACH;FMTTYPE=image/jpeg:https://festtr.com/wp-content/uploads/sil-24.07.2024-04-05-49.jpg
END:VEVENT
END:VCALENDAR