BEGIN:VCALENDAR
VERSION:2.0
PRODID:-//FestTR - ECPv6.15.20//NONSGML v1.0//EN
CALSCALE:GREGORIAN
METHOD:PUBLISH
X-ORIGINAL-URL:https://festtr.com
X-WR-CALDESC:FestTR için etkinlikler
REFRESH-INTERVAL;VALUE=DURATION:PT1H
X-Robots-Tag:noindex
X-PUBLISHED-TTL:PT1H
BEGIN:VTIMEZONE
TZID:Europe/Istanbul
BEGIN:STANDARD
TZOFFSETFROM:+0300
TZOFFSETTO:+0300
TZNAME:+03
DTSTART:20230101T000000
END:STANDARD
END:VTIMEZONE
BEGIN:VEVENT
DTSTART;TZID=Europe/Istanbul:20260417T140000
DTEND;TZID=Europe/Istanbul:20260419T233000
DTSTAMP:20260423T130021
CREATED:20230928T210201Z
LAST-MODIFIED:20260326T012317Z
UID:10002941-1776434400-1776641400@festtr.com
SUMMARY:O'Fest Malatya
DESCRIPTION:O’fest bu sene 17-18-19 Nisan tarihlerinde Malatya Altınyunus Tesisleri’nde!
URL:https://festtr.com/festival/ofest-malatya/
LOCATION:Malatya\, Malatya\, Malatya\, Türkiye
CATEGORIES:❤ İndirimli Festivaller,Malatya Festivalleri,MilyonFest,Müzik Festivali,Popüler
ATTACH;FMTTYPE=image/jpeg:https://festtr.com/wp-content/uploads/ofest-malatya-2026-16879-26.02.2026-02-44-11.jpg
GEO:38.394013;38.347593
X-APPLE-STRUCTURED-LOCATION;VALUE=URI;X-ADDRESS=Malatya Malatya Malatya Türkiye;X-APPLE-RADIUS=500;X-TITLE=Malatya:geo:38.347593,38.394013
END:VEVENT
BEGIN:VEVENT
DTSTART;TZID=Europe/Istanbul:20260410T120000
DTEND;TZID=Europe/Istanbul:20260412T233000
DTSTAMP:20260423T130021
CREATED:20181022T101247Z
LAST-MODIFIED:20260403T180447Z
UID:10002001-1775822400-1776036600@festtr.com
SUMMARY:Yeşilüzümlü Dastar ve Kuzugöbeği Mantar Festivali
DESCRIPTION:Yeşilüzümlü Yöresi Dastar ve Kuzugöbeği Mantar Festivali\, 11-12-13 Nisan tarihlerinde gerçekleştirilecek.
URL:https://festtr.com/festival/kuzugobegi-mantar-festivali/
LOCATION:Muğla\, Muğla\, Türkiye
CATEGORIES:Kültür Festivali,Muğla Festivalleri,Ücretsiz,Yiyecek-İçecek Festivali,Yöresel Festival
ATTACH;FMTTYPE=image/jpeg:https://festtr.com/wp-content/uploads/dastar-ve-kuzugobegi-mantar-festivali-23.03.2026-08-45-52.jpg
GEO:37.191924;28.353782
END:VEVENT
BEGIN:VEVENT
DTSTART;TZID=Europe/Istanbul:20250731T140000
DTEND;TZID=Europe/Istanbul:20250803T233000
DTSTAMP:20260423T130021
CREATED:20180724T013149Z
LAST-MODIFIED:20250704T010205Z
UID:10001943-1753970400-1754263800@festtr.com
SUMMARY:Milyonfest Mersin
DESCRIPTION:Milyonfest Mersin Mezitli’de sizlerle…
URL:https://festtr.com/festival/milyonfest-mersin-erdemli/
LOCATION:Mersin\, Mersin\, Türkiye
CATEGORIES:Gençlik Festivali,Mersin Festivalleri,MilyonFest,Müzik Festivali,Popüler
ATTACH;FMTTYPE=image/jpeg:https://festtr.com/wp-content/uploads/milyonfest-14.07.2021-16-05-05.jpg
GEO:36.859359;34.64496
END:VEVENT
BEGIN:VEVENT
DTSTART;TZID=Europe/Istanbul:20250724T140000
DTEND;TZID=Europe/Istanbul:20250727T233000
DTSTAMP:20260423T130021
CREATED:20250704T004922Z
LAST-MODIFIED:20250704T004922Z
UID:10004358-1753365600-1753659000@festtr.com
SUMMARY:Milyonfest Didim
DESCRIPTION:Milyonfest Didim\, 24-25-26-27 Temmuz’da Tavşanburnu Orman Kampı’nda! Kum\, deniz ve gölgelik kamp alanıyla Türkiye’nin en yeni kamplı rock tatili seni bekliyor.
URL:https://festtr.com/festival/milyonfest-didim/
LOCATION:Aydın\, Aydın\, Türkiye
CATEGORIES:❤ İndirimli Festivaller,Aydın Festivalleri,MilyonFest,Müzik Festivali
ATTACH;FMTTYPE=image/jpeg:https://festtr.com/wp-content/uploads/milyonfest-didim-2025-30885-4.07.2025-03-46-09.jpg
GEO:37.795005;27.717969
END:VEVENT
BEGIN:VEVENT
DTSTART;TZID=Europe/Istanbul:20250718T120000
DTEND;TZID=Europe/Istanbul:20250720T233000
DTSTAMP:20260423T130021
CREATED:20250704T011802Z
LAST-MODIFIED:20250704T011802Z
UID:10004359-1752840000-1753054200@festtr.com
SUMMARY:Roys Fest Arsuz
DESCRIPTION:Roys Fest Arsuz; 18-19-20 Temmuz’da Diva Turka Beach Hatay’da!
URL:https://festtr.com/festival/roys-fest-arsuz/
LOCATION:Hatay\, Hatay\, Türkiye
CATEGORIES:❤ İndirimli Festivaller,Hatay Festivalleri,Müzik Festivali,Popüler
ATTACH;FMTTYPE=image/jpeg:https://festtr.com/wp-content/uploads/roys-fest-4.07.2025-04-13-52.jpg
GEO:36.584753;36.201574
END:VEVENT
BEGIN:VEVENT
DTSTART;TZID=Europe/Istanbul:20250612T130000
DTEND;TZID=Europe/Istanbul:20250614T233000
DTSTAMP:20260423T130021
CREATED:20250523T014721Z
LAST-MODIFIED:20250523T014814Z
UID:10004336-1749733200-1749943800@festtr.com
SUMMARY:Antalyaspor Gençlik Festivali
DESCRIPTION:RGÜZEL ANTALYA GENÇLİK FESTİVALİ ile harika bir festivale hazır mısınız?
URL:https://festtr.com/festival/antalyaspor-genclik-festivali/
LOCATION:Antalya\, Antalya\, Antalya\, Türkiye
CATEGORIES:❤ İndirimli Festivaller,Antalya Festivalleri,Gençlik Festivali,Müzik Festivali
ATTACH;FMTTYPE=image/jpeg:https://festtr.com/wp-content/uploads/rguzel-antalyaspor-genclik-festivali-25407-23.05.2025-04-45-38.jpg
GEO:36.888245;30.70711
X-APPLE-STRUCTURED-LOCATION;VALUE=URI;X-ADDRESS=Antalya Antalya Antalya Türkiye;X-APPLE-RADIUS=500;X-TITLE=Antalya:geo:30.70711,36.888245
END:VEVENT
BEGIN:VEVENT
DTSTART;TZID=Europe/Istanbul:20241003T120000
DTEND;TZID=Europe/Istanbul:20241006T233000
DTSTAMP:20260423T130021
CREATED:20230913T203137Z
LAST-MODIFIED:20241002T231056Z
UID:10003546-1727956800-1728257400@festtr.com
SUMMARY:O'Fest Afyon
DESCRIPTION:O’fest Afyon 3-6 Ekim tarihlerinde Jura Hotels Afyon sahnesinde!
URL:https://festtr.com/festival/ofest-afyon/
LOCATION:Afyon\, Afyon\, Türkiye
CATEGORIES:Afyon Festivalleri,MilyonFest,Müzik Festivali,Popüler
ATTACH;FMTTYPE=image/jpeg:https://festtr.com/wp-content/uploads/sil-3.10.2024-02-03-08.jpg
GEO:38.761688;30.550914
END:VEVENT
BEGIN:VEVENT
DTSTART;TZID=Europe/Istanbul:20240913T150000
DTEND;TZID=Europe/Istanbul:20240914T233000
DTSTAMP:20260423T130021
CREATED:20240806T010002Z
LAST-MODIFIED:20240806T010002Z
UID:10004108-1726239600-1726356600@festtr.com
SUMMARY:Bliss Out Festival
DESCRIPTION:Müziğin birleştirici gücünü hissetmek\, unutulmaz anılar biriktirmek ve birbirinden farklı sanatçıların performanslarıyla coşmak için 13-14 Eylül’de Bliss Out Festivali’nde buluşuyoruz. Her yaştan müzikseveri bir araya getiren festivalimizde\, ritmin özgürlüğünde dans ederken\, melodilerin büyüsüne kapılacaksınız. Hayatın melodisini yakalayın ve müziğin evrensel dilinde kaybolun!
URL:https://festtr.com/festival/bliss-out-festival/
LOCATION:CerModern\, Anafartalar\, Altınsoy Cd. No:3\, 06101 Sıhhıye / Altındağ\, Ankara\, Altındağ\, Türkiye
CATEGORIES:❤ İndirimli Festivaller,Ankara Festivalleri,Müzik Festivali,Popüler
ATTACH;FMTTYPE=image/jpeg:https://festtr.com/wp-content/uploads/sil-6.08.2024-03-15-04.jpg
END:VEVENT
BEGIN:VEVENT
DTSTART;TZID=Europe/Istanbul:20240808T130000
DTEND;TZID=Europe/Istanbul:20240811T233000
DTSTAMP:20260423T130021
CREATED:20230307T204117Z
LAST-MODIFIED:20240801T191301Z
UID:10003487-1723122000-1723419000@festtr.com
SUMMARY:Sinoz Karadeniz Müzik Festivali
DESCRIPTION:Karadeniz Müzik Festivali unutulmaz bir festival deneyimi için sizleri bekliyor.
URL:https://festtr.com/festival/karadeniz-muzik-festivali/
LOCATION:Akliman\, Akliman\, Sinop\, Sinop Merkez\, Türkiye
CATEGORIES:❤ İndirimli Festivaller,Müzik Festivali,Sinop Festivalleri
ATTACH;FMTTYPE=image/jpeg:https://festtr.com/wp-content/uploads/karadeniz-muzik-festivali-14961-7.03.2023-23-40-47.jpg
END:VEVENT
BEGIN:VEVENT
DTSTART;TZID=Europe/Istanbul:20240803T120000
DTEND;TZID=Europe/Istanbul:20240811T233000
DTSTAMP:20260423T130021
CREATED:20240807T025056Z
LAST-MODIFIED:20240807T025056Z
UID:10004126-1722686400-1723419000@festtr.com
SUMMARY:SorFest
DESCRIPTION:14. Sorgun Kültür ve Sanat Festivali – SORFEST\, 3-11 Ağustos tarihlerinde.
URL:https://festtr.com/festival/sorfest/
LOCATION:Yozgat\, Yozgat\, Türkiye
CATEGORIES:Kültür Festivali,Sanat Festivali,Ücretsiz,Yozgat Festivalleri
ATTACH;FMTTYPE=image/jpeg:https://festtr.com/wp-content/uploads/sil-7.08.2024-05-50-23.jpg
GEO:39.820814;34.808727
END:VEVENT
BEGIN:VEVENT
DTSTART;TZID=Europe/Istanbul:20240606T120000
DTEND;TZID=Europe/Istanbul:20240609T233000
DTSTAMP:20260423T130021
CREATED:20180623T215736Z
LAST-MODIFIED:20240430T041647Z
UID:10001898-1717675200-1717975800@festtr.com
SUMMARY:Samsun Gençlik Festivali
DESCRIPTION:Karadeniz’in en büyük müzik festivali Samsun Gençlik Festivali 6-9 Haziran tarihlerinde Sheraton Grand Beach’te gerçekleşecek! Karadeniz’in dört bir yanından gelen müzikseverlerin akınına uğrayan Samsun Gençlik Festivali\, beşinci kez yola çıkmak için hazır!
URL:https://festtr.com/festival/samsun-genclik-festivali/
LOCATION:Samsun\, Samsun\, Türkiye
CATEGORIES:Gençlik Festivali,MilyonFest,Müzik Festivali,Popüler,Samsun Festivalleri
ATTACH;FMTTYPE=image/jpeg:https://festtr.com/wp-content/uploads/sil-30.04.2024-07-09-38.jpg
END:VEVENT
BEGIN:VEVENT
DTSTART;TZID=Europe/Istanbul:20240517T120000
DTEND;TZID=Europe/Istanbul:20240525T233000
DTSTAMP:20260423T130021
CREATED:20240518T133016Z
LAST-MODIFIED:20240518T133659Z
UID:10003693-1715947200-1716679800@festtr.com
SUMMARY:İBB Gençlik Konserleri
DESCRIPTION:İBB Gençlik Konserleri Maletepe Etkinlik Alanı’nda sizlerle.
URL:https://festtr.com/festival/ibb-genclik-konserleri/
LOCATION:Maltepe Etkinlik Alanı\, Yalı\, Sahilyolu Caddesi\, 34844 Maltepe\, İstanbul\, Maltepe\, Türkiye
CATEGORIES:Gençlik Festivali,İstanbul Festivalleri,Müzik Festivali,Ücretsiz
ATTACH;FMTTYPE=image/jpeg:https://festtr.com/wp-content/uploads/sil-18.05.2024-16-29-18.jpg
END:VEVENT
BEGIN:VEVENT
DTSTART;VALUE=DATE:20240517
DTEND;VALUE=DATE:20240525
DTSTAMP:20260423T130021
CREATED:20240406T002019Z
LAST-MODIFIED:20240408T015440Z
UID:10003616-1715904000-1716595199@festtr.com
SUMMARY:Doğuş Fest
DESCRIPTION:Doğuşfest\, 20-22-24 Mayıs tarihlerinde sizlerle.
URL:https://festtr.com/festival/dogus-fest/
LOCATION:Hatay\, Hatay\, Türkiye
CATEGORIES:❤ İndirimli Festivaller,Hatay Festivalleri,Müzik Festivali
ATTACH;FMTTYPE=image/jpeg:https://festtr.com/wp-content/uploads/sil-6.04.2024-03-19-38.jpg
GEO:36.584753;36.201574
END:VEVENT
BEGIN:VEVENT
DTSTART;TZID=Europe/Istanbul:20240516T140000
DTEND;TZID=Europe/Istanbul:20240519T233000
DTSTAMP:20260423T130021
CREATED:20240404T221306Z
LAST-MODIFIED:20240430T204016Z
UID:10003615-1715868000-1716161400@festtr.com
SUMMARY:MilyonFest Adana
DESCRIPTION:Bu yıl ilki gerçekleşecek olan Milyonfest Adana 16-17-18-19 Mayıs’ta Mavi Su Aqualand’da!
URL:https://festtr.com/festival/milyonfest-adana/
LOCATION:Mavi Su Aqualand\, Yavuzlar\, Hacı Sabancı Blv. No:31\, 01220 Yüreğir\, Adana\, Yüreğir\, Türkiye
CATEGORIES:Adana Festivalleri,MilyonFest,Müzik Festivali,Popüler
ATTACH;FMTTYPE=image/jpeg:https://festtr.com/wp-content/uploads/sil-5.04.2024-01-11-50.jpg
END:VEVENT
END:VCALENDAR