BEGIN:VCALENDAR
VERSION:2.0
PRODID:-//FestTR - ECPv6.15.20//NONSGML v1.0//EN
CALSCALE:GREGORIAN
METHOD:PUBLISH
X-ORIGINAL-URL:https://festtr.com
X-WR-CALDESC:FestTR için etkinlikler
REFRESH-INTERVAL;VALUE=DURATION:PT1H
X-Robots-Tag:noindex
X-PUBLISHED-TTL:PT1H
BEGIN:VTIMEZONE
TZID:Europe/Istanbul
BEGIN:STANDARD
TZOFFSETFROM:+0300
TZOFFSETTO:+0300
TZNAME:+03
DTSTART:20240101T000000
END:STANDARD
END:VTIMEZONE
BEGIN:VEVENT
DTSTART;TZID=Europe/Istanbul:20250704T150000
DTEND;TZID=Europe/Istanbul:20250706T233000
DTSTAMP:20260421T071258
CREATED:20250124T223715Z
LAST-MODIFIED:20250124T224103Z
UID:10004270-1751641200-1751844600@festtr.com
SUMMARY:Headbangers' Weekend
DESCRIPTION:%100 Metal İftiharla Sunar: Türkiye’nin en sert metal festivali Headbangers’ Weekend 3 günlük dopdolu kadrosuyla 4\, 5 ve 6 Temmuz 2025 tarihlerinde İstanbul Life Park’ta!
URL:https://festtr.com/festival/headbangers-weekend/
LOCATION:İstanbul\, İstanbul\, Türkiye
CATEGORIES:❤ İndirimli Festivaller,İstanbul Festivalleri,Müzik Festivali,Popüler
ATTACH;FMTTYPE=image/jpeg:https://festtr.com/wp-content/uploads/100-metal-sunar-headbangers-weekend-25.01.2025-01-31-51.jpg
END:VEVENT
END:VCALENDAR