BEGIN:VCALENDAR
VERSION:2.0
PRODID:-//FestTR - ECPv6.15.20//NONSGML v1.0//EN
CALSCALE:GREGORIAN
METHOD:PUBLISH
X-ORIGINAL-URL:https://festtr.com
X-WR-CALDESC:FestTR için etkinlikler
REFRESH-INTERVAL;VALUE=DURATION:PT1H
X-Robots-Tag:noindex
X-PUBLISHED-TTL:PT1H
BEGIN:VTIMEZONE
TZID:Europe/Istanbul
BEGIN:STANDARD
TZOFFSETFROM:+0300
TZOFFSETTO:+0300
TZNAME:+03
DTSTART:20240101T000000
END:STANDARD
END:VTIMEZONE
BEGIN:VEVENT
DTSTART;TZID=Europe/Istanbul:20250330T120000
DTEND;TZID=Europe/Istanbul:20250401T233000
DTSTAMP:20260421T052914
CREATED:20250317T233739Z
LAST-MODIFIED:20250317T233821Z
UID:10004315-1743336000-1743550200@festtr.com
SUMMARY:Akustik Kapadokya
DESCRIPTION:Akustik Kapadokya 30-31 Mart 1 Nisan tarihlerinde şehrine geliyor. Unutulmaz bir eğlenceye dahil olmak için hemen yerini ayırt.
URL:https://festtr.com/festival/akustik-kapadokya/
LOCATION:Nevşehir\, Nevşehir\, Türkiye
CATEGORIES:❤ İndirimli Festivaller,Müzik Festivali,Nevşehir Festivalleri,Popüler
ATTACH;FMTTYPE=image/jpeg:https://festtr.com/wp-content/uploads/akustik-kapadokya-94809-18.03.2025-02-31-44.jpg
END:VEVENT
END:VCALENDAR