BEGIN:VCALENDAR
VERSION:2.0
PRODID:-//FestTR - ECPv6.15.20//NONSGML v1.0//EN
CALSCALE:GREGORIAN
METHOD:PUBLISH
X-WR-CALNAME:FestTR
X-ORIGINAL-URL:https://festtr.com
X-WR-CALDESC:FestTR için etkinlikler
REFRESH-INTERVAL;VALUE=DURATION:PT1H
X-Robots-Tag:noindex
X-PUBLISHED-TTL:PT1H
BEGIN:VTIMEZONE
TZID:Europe/Istanbul
BEGIN:STANDARD
TZOFFSETFROM:+0300
TZOFFSETTO:+0300
TZNAME:+03
DTSTART:20240101T000000
END:STANDARD
END:VTIMEZONE
BEGIN:VEVENT
DTSTART;TZID=Europe/Istanbul:20250521T130000
DTEND;TZID=Europe/Istanbul:20250525T233000
DTSTAMP:20260423T161915
CREATED:20250521T001449Z
LAST-MODIFIED:20250521T002537Z
UID:10004335-1747832400-1748215800@festtr.com
SUMMARY:Sarayköy Tarım ve Kültür Festivali
DESCRIPTION:6. Sarayköy Tarım ve Kültür Festivali başlıyor!🎊 \nEğlence\, müzik ve heyecan dolu günler 21-25 Mayıs tarihleri arasında bizleri bekliyor! \nBirbirinden özel etkinlikler\, unutulmaz konserler\, panayır alanları ve rengarenk lunapark ile festival coşkusunu birlikte yaşayacağız.
URL:https://festtr.com/festival/saraykoy-tarim-ve-kultur-festivali/
LOCATION:Denizli\, Denizli\, Türkiye
CATEGORIES:Denizli Festivalleri,Kültür Festivali,Ücretsiz
ATTACH;FMTTYPE=image/jpeg:https://festtr.com/wp-content/uploads/denizli-saraykoy-festival-hbr-21.05.2025-03-09-50.jpg
GEO:37.782452;29.096066
END:VEVENT
END:VCALENDAR