BEGIN:VCALENDAR
VERSION:2.0
PRODID:-//FestTR - ECPv6.15.20//NONSGML v1.0//EN
CALSCALE:GREGORIAN
METHOD:PUBLISH
X-WR-CALNAME:FestTR
X-ORIGINAL-URL:https://festtr.com
X-WR-CALDESC:FestTR için etkinlikler
REFRESH-INTERVAL;VALUE=DURATION:PT1H
X-Robots-Tag:noindex
X-PUBLISHED-TTL:PT1H
BEGIN:VTIMEZONE
TZID:Europe/Istanbul
BEGIN:STANDARD
TZOFFSETFROM:+0300
TZOFFSETTO:+0300
TZNAME:+03
DTSTART:20250101T000000
END:STANDARD
END:VTIMEZONE
BEGIN:VEVENT
DTSTART;TZID=Europe/Istanbul:20260404T120000
DTEND;TZID=Europe/Istanbul:20260405T233000
DTSTAMP:20260419T230147
CREATED:20250227T223445Z
LAST-MODIFIED:20260323T052026Z
UID:10004305-1775304000-1775431800@festtr.com
SUMMARY:İstanbul Uluslararası Bahar Film Festivali
DESCRIPTION:4. İstanbul Uluslararası Bahar Film Festivali\, ​T.C. Sancaktepe Belediyesi bünyesinde 4-5 Nisan 2026 tarihlerinde düzenlenecek.
URL:https://festtr.com/festival/istanbul-bahar-film-festivali/
LOCATION:İstanbul\, İstanbul\, Türkiye
CATEGORIES:Film Festivali,İstanbul Festivalleri,Ücretsiz
ATTACH;FMTTYPE=image/jpeg:https://festtr.com/wp-content/uploads/istanbul-bahar-film-festivali-28.02.2025-01-28-07.jpg
END:VEVENT
END:VCALENDAR