BEGIN:VCALENDAR
VERSION:2.0
PRODID:-//FestTR - ECPv6.15.20//NONSGML v1.0//EN
CALSCALE:GREGORIAN
METHOD:PUBLISH
X-ORIGINAL-URL:https://festtr.com
X-WR-CALDESC:FestTR için etkinlikler
REFRESH-INTERVAL;VALUE=DURATION:PT1H
X-Robots-Tag:noindex
X-PUBLISHED-TTL:PT1H
BEGIN:VTIMEZONE
TZID:Europe/Istanbul
BEGIN:STANDARD
TZOFFSETFROM:+0300
TZOFFSETTO:+0300
TZNAME:+03
DTSTART:20230101T000000
END:STANDARD
END:VTIMEZONE
BEGIN:VEVENT
DTSTART;TZID=Europe/Istanbul:20250822T120000
DTEND;TZID=Europe/Istanbul:20250824T233000
DTSTAMP:20260421T033647
CREATED:20180724T020643Z
LAST-MODIFIED:20250823T234729Z
UID:10001944-1755864000-1756078200@festtr.com
SUMMARY:GezginFest Patagonya
DESCRIPTION:Gezgin Fest Patagonya\, Patagonya World / Kocaeli – Seyrek’de sizlerle…
URL:https://festtr.com/festival/gezginfest/
LOCATION:Kocaeli\, Kocaeli\, Türkiye
CATEGORIES:❤ İndirimli Festivaller,Gençlik Festivali,Kocaeli Festivalleri,Müzik Festivali,Popüler
ATTACH;FMTTYPE=image/jpeg:https://festtr.com/wp-content/uploads/gezgin-fest-04.09.2021-20-13-14.jpg
GEO:40.834389;29.902357
END:VEVENT
BEGIN:VEVENT
DTSTART;TZID=Europe/Istanbul:20250801T120000
DTEND;TZID=Europe/Istanbul:20250803T233000
DTSTAMP:20260421T033647
CREATED:20250221T002848Z
LAST-MODIFIED:20250221T002954Z
UID:10004300-1754049600-1754263800@festtr.com
SUMMARY:Freedom Fest Patagonya
DESCRIPTION:1-2-3 Ağustos’ta Patagonya World\, doğanın kalbinde müzik ve sanatla dolu üç günlük unutulmaz bir festival seni bekliyor!
URL:https://festtr.com/festival/freedom-fest-patagonya/
LOCATION:Kocaeli\, Kocaeli\, Türkiye
CATEGORIES:❤ İndirimli Festivaller,Kocaeli Festivalleri,Müzik Festivali
ATTACH;FMTTYPE=image/jpeg:https://festtr.com/wp-content/uploads/freedom-fest-patagonya-2025-81440-21.02.2025-03-21-29.jpg
GEO:40.834389;29.902357
END:VEVENT
BEGIN:VEVENT
DTSTART;TZID=Europe/Istanbul:20250329T120000
DTEND;TZID=Europe/Istanbul:20250401T233000
DTSTAMP:20260421T033647
CREATED:20240818T014444Z
LAST-MODIFIED:20250221T000151Z
UID:10004159-1743249600-1743550200@festtr.com
SUMMARY:Bi Büyük Gastronomi Meze Festivali
DESCRIPTION:Bi Büyük Gastronomi Meze Festivali 29 Mart – 1 Nisan tarihlerinde Patagonya World’de gerçekleşecek… \nEfsane bir konseptimiz #RakiLive2 ile sezona giriyoruz! Geçen seneden farklı olarak; Masa düzeni\, gazino konsepti\, meyhane muzikleri\, dram & eğlence ve birçok özel aktivite ile biz hazırız. \nSanatçılarımız; Feridun Düzağaç\, Ufuk Beydemir ve sürpriz olacak bir diğer sanatçımız. 👀
URL:https://festtr.com/festival/bi-buyuk-fasil-meze-kampi/
LOCATION:Kocaeli\, Kocaeli\, Türkiye
CATEGORIES:Gastronomi Festivali,Kocaeli Festivalleri,Müzik Festivali,Yiyecek-İçecek Festivali
ATTACH;FMTTYPE=image/jpeg:https://festtr.com/wp-content/uploads/raki-meze-21.02.2025-02-59-20.jpg
GEO:40.834389;29.902357
END:VEVENT
BEGIN:VEVENT
DTSTART;TZID=Europe/Istanbul:20241018T120000
DTEND;TZID=Europe/Istanbul:20241020T233000
DTSTAMP:20260421T033647
CREATED:20240927T211909Z
LAST-MODIFIED:20240927T212610Z
UID:10004223-1729252800-1729467000@festtr.com
SUMMARY:Open Fest
DESCRIPTION:Birbirinden eğlenceli sanatçı ve gruplarla sonbahara damga vuracak Open Fest seni bekliyor!
URL:https://festtr.com/festival/open-fest/
LOCATION:Patagonya World\, Seyrek\, Çalköy\, 41600 Kandıra\, Kocaeli\, Kandıra\, Türkiye
CATEGORIES:❤ İndirimli Festivaller,Aktivite Festivali,Kocaeli Festivalleri,Müzik Festivali,Popüler
ATTACH;FMTTYPE=image/jpeg:https://festtr.com/wp-content/uploads/sil-28.09.2024-00-17-56.jpg
END:VEVENT
BEGIN:VEVENT
DTSTART;TZID=Europe/Istanbul:20240913T120000
DTEND;TZID=Europe/Istanbul:20240914T233000
DTSTAMP:20260421T033647
CREATED:20240905T000638Z
LAST-MODIFIED:20240905T000638Z
UID:10004192-1726228800-1726356600@festtr.com
SUMMARY:BigHug Festival
DESCRIPTION:BigHug Festival 2024\, 13 ve14 Eylül 2024 tarihinde ikinci kez Kocaeli Patagonya World adresinde gerçekleşiyor! \nElektronik müzik ve kamp festivali olan BigHug Festival\, 2 gece 3 gün\, 3 sahne\, 42 elektronik müzik sanatçısı\, kamp\, plaj ve koylar\, görsel şovlar\, deneyim alanları\, birbirinden lezzetli yemek stantları\, oyun alanı\, su sporları\, eğitim\, yoga\, meditasyon\, atölyeler unutulmaz anlar biriktirmek için sizleri bekliyor!
URL:https://festtr.com/festival/bighug-festival/
LOCATION:Patagonya World\, Seyrek\, Çalköy\, 41600 Kandıra\, Kocaeli\, Kandıra\, Türkiye
CATEGORIES:❤ İndirimli Festivaller,Kocaeli Festivalleri,Müzik Festivali
ATTACH;FMTTYPE=image/jpeg:https://festtr.com/wp-content/uploads/bighug-festival-5.09.2024-03-03-55.jpg
END:VEVENT
BEGIN:VEVENT
DTSTART;VALUE=DATE:20240725
DTEND;VALUE=DATE:20240730
DTSTAMP:20260421T033647
CREATED:20240406T043315Z
LAST-MODIFIED:20240704T231917Z
UID:10003619-1721876400-1722221999@festtr.com
SUMMARY:Festivalde Kal Kocaeli Müzik Festivali
DESCRIPTION:Kendi hikayesinin kahramanı olmak isteyen gençler için! \n25-26-27-28 Temmuz tarihlerinde Seyrek Kandıra Patagonya World’de buluşuyoruz. \nTüm gün sürecek birbirinden muhteşem sahne üzeri gösteriler\, canlı müzik konserleri ve DJ performansları\, Keşfedilecek yeni hayatlar\, teknolojik yenilikler\, birbirinden heyecanlı spor müsabakaları\, ilham veren workshoplar\, birbirinden farklı sosyal sorumluluk projeleri\, Zumba\, Plates ve Yoga ile ruhunuzu dinlendirecek etkinlikler\, Edinilecek yeni deneyimlerle\, çadır ve karavan hayatının vazgeçilmez maceracı ruhunu ve unutulmayacak güzel anıları tüm müziksever gençlerle buluşturmak için Türkiye’nin en kapsamlı gençlik ve müzik festivali; “Festival’de Kal!”
URL:https://festtr.com/festival/festivalde-kal/
LOCATION:Kocaeli\, Kocaeli\, Türkiye
CATEGORIES:❤ İndirimli Festivaller,Kocaeli Festivalleri,Müzik Festivali
ATTACH;FMTTYPE=image/jpeg:https://festtr.com/wp-content/uploads/sil-6.04.2024-07-31-25.jpg
GEO:40.834389;29.902357
END:VEVENT
END:VCALENDAR