BEGIN:VCALENDAR
VERSION:2.0
PRODID:-//FestTR - ECPv6.15.20//NONSGML v1.0//EN
CALSCALE:GREGORIAN
METHOD:PUBLISH
X-WR-CALNAME:FestTR
X-ORIGINAL-URL:https://festtr.com
X-WR-CALDESC:FestTR için etkinlikler
REFRESH-INTERVAL;VALUE=DURATION:PT1H
X-Robots-Tag:noindex
X-PUBLISHED-TTL:PT1H
BEGIN:VTIMEZONE
TZID:Europe/Istanbul
BEGIN:STANDARD
TZOFFSETFROM:+0300
TZOFFSETTO:+0300
TZNAME:+03
DTSTART:20230101T000000
END:STANDARD
END:VTIMEZONE
BEGIN:VEVENT
DTSTART;TZID=Europe/Istanbul:20250628T143000
DTEND;TZID=Europe/Istanbul:20250629T233000
DTSTAMP:20260419T153732
CREATED:20220608T014934Z
LAST-MODIFIED:20250220T234709Z
UID:10003432-1751121000-1751239800@festtr.com
SUMMARY:Gezgin Salon Festivali
DESCRIPTION:Gezgin Salon Festivali 28-29 Haziran 2025’te  İstanbul Bonus Parkorman’da.
URL:https://festtr.com/festival/gezgin-salon-festivali/
LOCATION:İstanbul\, İstanbul\, Türkiye
CATEGORIES:İstanbul Festivalleri,Müzik Festivali
ATTACH;FMTTYPE=image/jpeg:https://festtr.com/wp-content/uploads/gezgin-salon-2.04.2023-03-15-48.jpg
END:VEVENT
BEGIN:VEVENT
DTSTART;TZID=Europe/Istanbul:20240907T120000
DTEND;TZID=Europe/Istanbul:20240908T233000
DTSTAMP:20260419T153732
CREATED:20240803T141757Z
LAST-MODIFIED:20240803T141757Z
UID:10004106-1725710400-1725838200@festtr.com
SUMMARY:Feel The Fest İstanbul
DESCRIPTION:Feel the Fest İstanbul: 7-8 Eylül Bonus Parkorman’da!
URL:https://festtr.com/festival/feel-the-fest-istanbul/
LOCATION:Parkorman\, Parkorman Tabiat Parkı\, Maslak\, Sarıyer\, İstanbul\, 34485\, Türkiye
CATEGORIES:❤ İndirimli Festivaller,İstanbul Festivalleri,Müzik Festivali,Popüler
ATTACH;FMTTYPE=image/jpeg:https://festtr.com/wp-content/uploads/sil-3.08.2024-17-15-16.jpg
END:VEVENT
END:VCALENDAR