BEGIN:VCALENDAR
VERSION:2.0
PRODID:-//FestTR - ECPv6.15.20//NONSGML v1.0//EN
CALSCALE:GREGORIAN
METHOD:PUBLISH
X-ORIGINAL-URL:https://festtr.com
X-WR-CALDESC:FestTR için etkinlikler
REFRESH-INTERVAL;VALUE=DURATION:PT1H
X-Robots-Tag:noindex
X-PUBLISHED-TTL:PT1H
BEGIN:VTIMEZONE
TZID:Europe/Istanbul
BEGIN:STANDARD
TZOFFSETFROM:+0300
TZOFFSETTO:+0300
TZNAME:+03
DTSTART:20240101T000000
END:STANDARD
END:VTIMEZONE
BEGIN:VEVENT
DTSTART;TZID=Europe/Istanbul:20250213T120000
DTEND;TZID=Europe/Istanbul:20250216T233000
DTSTAMP:20260421T125658
CREATED:20250205T210132Z
LAST-MODIFIED:20250205T210132Z
UID:10004275-1739448000-1739748600@festtr.com
SUMMARY:Frozen Festival
DESCRIPTION:Frozen Festival\, Türkiye’nin en iyi kayak merkezi Palandöken’de 2020 yılından bu yana 5 yıl üst üste düzenlenen ve bu yıl 13-14-15-16 Şubat 2025 tarihlerinde 6. sı gerçekleştirilecek\, \nReferans ile katılım sağlanabilen 25 – 45 yaş katılımcı kitlesine sahip eşsiz bir kayak müzik ve sanat festivalidir. \nMükemmel kar kalitesine sahip Türkiye’nin en uzun pistlerinde gün boyu kayağın ardından dünya çapında canlı müzik ve DJ performansların tadını çıkarabileceğiniz Apres Ski ve Gece Etkinlikleri\, ödüllü kayak & snowboard yarışları\, yoga seansları\, buz heykelciliği ve benzersiz workshoplarla kayağın ve müziğin zirvesinde 4 günlük eşsiz bir kış masalı. \n 
URL:https://festtr.com/festival/frozen-festival/
LOCATION:Erzurum\, Erzurum\, Türkiye
CATEGORIES:Aktivite Festivali,Erzurum Festivalleri,Müzik Festivali
ATTACH;FMTTYPE=image/jpeg:https://festtr.com/wp-content/uploads/frozen-5.02.2025-23-58-51.jpg
GEO:39.904877;41.267629
END:VEVENT
BEGIN:VEVENT
DTSTART;TZID=Europe/Istanbul:20250207T120000
DTEND;TZID=Europe/Istanbul:20250209T233000
DTSTAMP:20260421T125658
CREATED:20240119T005711Z
LAST-MODIFIED:20250130T233624Z
UID:10002974-1738929600-1739143800@festtr.com
SUMMARY:Flexanima Winter Edition
DESCRIPTION:Flexanima Winter Edition 7-9 Şubat’ta…
URL:https://festtr.com/festival/flexanima-winter-edition/
LOCATION:Erzurum\, Erzurum\, Türkiye
CATEGORIES:Erzurum Festivalleri,Müzik Festivali
ATTACH;FMTTYPE=image/jpeg:https://festtr.com/wp-content/uploads/fwe_beyaz-31.01.2025-02-33-04.jpg
GEO:39.904877;41.267629
END:VEVENT
END:VCALENDAR