BEGIN:VCALENDAR
VERSION:2.0
PRODID:-//FestTR - ECPv6.15.20//NONSGML v1.0//EN
CALSCALE:GREGORIAN
METHOD:PUBLISH
X-ORIGINAL-URL:https://festtr.com
X-WR-CALDESC:FestTR için etkinlikler
REFRESH-INTERVAL;VALUE=DURATION:PT1H
X-Robots-Tag:noindex
X-PUBLISHED-TTL:PT1H
BEGIN:VTIMEZONE
TZID:Europe/Istanbul
BEGIN:STANDARD
TZOFFSETFROM:+0300
TZOFFSETTO:+0300
TZNAME:+03
DTSTART:20230101T000000
END:STANDARD
END:VTIMEZONE
BEGIN:VEVENT
DTSTART;TZID=Europe/Istanbul:20241116T120000
DTEND;TZID=Europe/Istanbul:20241117T233000
DTSTAMP:20260420T024606
CREATED:20181208T223013Z
LAST-MODIFIED:20241108T180726Z
UID:10002283-1731758400-1731886200@festtr.com
SUMMARY:Milas Zeytin Hasat Şenliği
DESCRIPTION:10. Milas Zeytin Hasat Şenliği\, 16-17 Kasım tarihlerinde ziyaretçilerini ağırlayacak.
URL:https://festtr.com/festival/milas-zeytin-hasat-senligi/
LOCATION:Milas\, Milas\, Muğla\, Türkiye
CATEGORIES:Muğla Festivalleri,Ücretsiz,Yiyecek-İçecek Festivali,Yöresel Festival
ATTACH;FMTTYPE=image/jpeg:https://festtr.com/wp-content/uploads/zeytin-milas-12.11.2022-02-56-12.jpg
END:VEVENT
END:VCALENDAR