BEGIN:VCALENDAR
VERSION:2.0
PRODID:-//FestTR - ECPv6.15.20//NONSGML v1.0//EN
CALSCALE:GREGORIAN
METHOD:PUBLISH
X-ORIGINAL-URL:https://festtr.com
X-WR-CALDESC:FestTR için etkinlikler
REFRESH-INTERVAL;VALUE=DURATION:PT1H
X-Robots-Tag:noindex
X-PUBLISHED-TTL:PT1H
BEGIN:VTIMEZONE
TZID:Europe/Istanbul
BEGIN:STANDARD
TZOFFSETFROM:+0300
TZOFFSETTO:+0300
TZNAME:+03
DTSTART:20180101T000000
END:STANDARD
END:VTIMEZONE
BEGIN:VEVENT
DTSTART;TZID=Europe/Istanbul:20230728T120000
DTEND;TZID=Europe/Istanbul:20230820T233000
DTSTAMP:20260420T005723
CREATED:20230723T141718Z
LAST-MODIFIED:20231230T000756Z
UID:10003513-1690545600-1692574200@festtr.com
SUMMARY:Kütahya Fuarı
DESCRIPTION:46. Kütahya Fuarı 28 Temmuz-20 Ağustos tarihlerinde sizlerle…
URL:https://festtr.com/festival/kutahya-fuari/
LOCATION:Kütahya\, Türkiye
CATEGORIES:Kültür Festivali,Kütahya Festivalleri
ATTACH;FMTTYPE=image/jpeg:https://festtr.com/wp-content/uploads/sil-23.07.2023-17-14-08.jpg
GEO:39.43788;30.046311
END:VEVENT
BEGIN:VEVENT
DTSTART;VALUE=DATE:20210904
DTEND;VALUE=DATE:20210907
DTSTAMP:20260420T005723
CREATED:20210830T010102Z
LAST-MODIFIED:20240105T002922Z
UID:10003298-1630717200-1630889999@festtr.com
SUMMARY:Hayme Ana'yı Anma ve Göç Şenlikleri
DESCRIPTION:740. Hayme Ana’yı Anma ve Göç Şenlikleri 4-5 Eylül tarihlerinde Kütahya / Domaniç Çarşamba Köyü’nde.
URL:https://festtr.com/festival/hayme-anayi-anma-ve-goc-senlikleri/
LOCATION:Kütahya\, Türkiye
CATEGORIES:Kütahya Festivalleri,Şenlik,Ücretsiz
ATTACH;FMTTYPE=image/jpeg:https://festtr.com/wp-content/uploads/hayme-ana-30.08.2021-03-58-43.jpg
GEO:39.43788;30.046311
END:VEVENT
BEGIN:VEVENT
DTSTART;TZID=Europe/Istanbul:20210829T150000
DTEND;TZID=Europe/Istanbul:20210829T233000
DTSTAMP:20260420T005723
CREATED:20210820T210755Z
LAST-MODIFIED:20240105T023834Z
UID:10003283-1630249200-1630279800@festtr.com
SUMMARY:Kütahya Gençlik Festivali
DESCRIPTION:Ece Mumay\, Dj Luwian ve Duran Tokluca’nın yer alacağı Kütahya Gençlik Festivali\, 29 Ağustos 2021’de Kütahya Kent Ormanı Festival Alanı’nda sizlerle..
URL:https://festtr.com/festival/kutahya-genclik-festivali/
LOCATION:Kütahya\, Türkiye
CATEGORIES:Gençlik Festivali,Kütahya Festivalleri,Müzik Festivali
ATTACH;FMTTYPE=image/jpeg:https://festtr.com/wp-content/uploads/2019/06/genel-festtr-07.06.2019-07-07-50.jpg
GEO:39.43788;30.046311
END:VEVENT
BEGIN:VEVENT
DTSTART;VALUE=DATE:20210826
DTEND;VALUE=DATE:20210830
DTSTAMP:20260420T005723
CREATED:20200209T193026Z
LAST-MODIFIED:20240105T024158Z
UID:10003038-1629939600-1630225800@festtr.com
SUMMARY:Simav Eynal Bisiklet Festivali
DESCRIPTION:Kütahya Simav Eynal Bisiklet Festivali 26-29 Ağustos tarihleri arasında yapılacak.
URL:https://festtr.com/festival/simav-eynal-bisiklet-festivali/
LOCATION:Kütahya\, Türkiye
CATEGORIES:Bisiklet Festivali,Kütahya Festivalleri
ATTACH;FMTTYPE=image/jpeg:https://festtr.com/wp-content/uploads/2019/06/genel-festtr-07.06.2019-07-07-50.jpg
GEO:39.43788;30.046311
END:VEVENT
BEGIN:VEVENT
DTSTART;TZID=Europe/Istanbul:20200902T120000
DTEND;TZID=Europe/Istanbul:20200904T210000
DTSTAMP:20260420T005723
CREATED:20200209T220353Z
LAST-MODIFIED:20210714T234339Z
UID:10003042-1599048000-1599253200@festtr.com
SUMMARY:Tavşanlı Leblebi ve Kömür Festivali
DESCRIPTION:Kütahya’nın Tavşanlı ilçesinde Leblebi ve Kömür Festivali eylül ayında yapılmaktadır.
URL:https://festtr.com/festival/tavsanli-leblebi-ve-komur-festivali/
LOCATION:Kütahya\, Türkiye
CATEGORIES:Kütahya Festivalleri,Ücretsiz,Yiyecek-İçecek Festivali,Yöresel Ürünler Festivali
ATTACH;FMTTYPE=image/jpeg:https://festtr.com/wp-content/uploads/leblebi-4.09.2024-03-07-56.jpg
GEO:39.43788;30.046311
END:VEVENT
BEGIN:VEVENT
DTSTART;TZID=Europe/Istanbul:20191001T100000
DTEND;TZID=Europe/Istanbul:20191005T190000
DTSTAMP:20260420T005723
CREATED:20181022T190436Z
LAST-MODIFIED:20210715T004545Z
UID:10002176-1569924000-1570302000@festtr.com
SUMMARY:Dumlupınar Çini ve El Sanatları Festivali
DESCRIPTION:4. Dumlupınar Çini ve El Sanatları Festivali 1-5 Ekim tarihlerinde Kütahya’da düzenleniyor.
URL:https://festtr.com/festival/dumlupinar-cini-ve-el-sanatlari-festivali/
LOCATION:Kütahya\, Türkiye
CATEGORIES:Kütahya Festivalleri,Yöresel Festival
ATTACH;FMTTYPE=image/jpeg:https://festtr.com/wp-content/uploads/2019/06/genel-festtr-07.06.2019-07-07-50.jpg
GEO:39.43788;30.046311
END:VEVENT
END:VCALENDAR