BEGIN:VCALENDAR
VERSION:2.0
PRODID:-//FestTR - ECPv6.15.20//NONSGML v1.0//EN
CALSCALE:GREGORIAN
METHOD:PUBLISH
X-WR-CALNAME:FestTR
X-ORIGINAL-URL:https://festtr.com
X-WR-CALDESC:FestTR için etkinlikler
REFRESH-INTERVAL;VALUE=DURATION:PT1H
X-Robots-Tag:noindex
X-PUBLISHED-TTL:PT1H
BEGIN:VTIMEZONE
TZID:Europe/Istanbul
BEGIN:STANDARD
TZOFFSETFROM:+0300
TZOFFSETTO:+0300
TZNAME:+03
DTSTART:20240101T000000
END:STANDARD
END:VTIMEZONE
BEGIN:VEVENT
DTSTART;TZID=Europe/Istanbul:20250704T120000
DTEND;TZID=Europe/Istanbul:20250706T233000
DTSTAMP:20260419T185718
CREATED:20240815T012453Z
LAST-MODIFIED:20250704T020830Z
UID:10004145-1751630400-1751844600@festtr.com
SUMMARY:Kocaali Bisiklet Festivali
DESCRIPTION:Sakarya Büyükşehir Belediyesi’nin ilçedeki paydaşlarla birlikte düzenleyeceği Kocaali Bisiklet Festivali’nde sporseverler Karadeniz’in eşsiz mavisi\, Acarlar Longozu\, Melenağzı ve Maden Deresi tabiat cenneti eşliğinde pedal çevirerek çocuk etkinlikleri\, sinema filmi ve çekiliş etkinliklerinde buluşacak. Festival\, 4-6 Temmuz tarihleri arasında ücretsiz katılımla gerçekleşecek.
URL:https://festtr.com/festival/kocaali-bisiklet-festivali/
LOCATION:Sakarya\, Sakarya\, Türkiye
CATEGORIES:Bisiklet Festivali,Sakarya Festivalleri,Ücretsiz
ATTACH;FMTTYPE=image/jpeg:https://festtr.com/wp-content/uploads/bisiklet-20.10.2020-19-37-29.jpg
GEO:40.771863;30.393996
END:VEVENT
END:VCALENDAR