BEGIN:VCALENDAR
VERSION:2.0
PRODID:-//FestTR - ECPv6.15.20//NONSGML v1.0//EN
CALSCALE:GREGORIAN
METHOD:PUBLISH
X-ORIGINAL-URL:https://festtr.com
X-WR-CALDESC:FestTR için etkinlikler
REFRESH-INTERVAL;VALUE=DURATION:PT1H
X-Robots-Tag:noindex
X-PUBLISHED-TTL:PT1H
BEGIN:VTIMEZONE
TZID:Europe/Istanbul
BEGIN:STANDARD
TZOFFSETFROM:+0300
TZOFFSETTO:+0300
TZNAME:+03
DTSTART:20240101T000000
END:STANDARD
END:VTIMEZONE
BEGIN:VEVENT
DTSTART;TZID=Europe/Istanbul:20250629T120000
DTEND;TZID=Europe/Istanbul:20250704T233000
DTSTAMP:20260421T203931
CREATED:20240704T222553Z
LAST-MODIFIED:20250630T002920Z
UID:10004096-1751198400-1751671800@festtr.com
SUMMARY:Karamürsel 4 Temmuz Kurtuluş Şenlikleri
DESCRIPTION:104. Karamürsel Kurtuluş Şenlikleri 29 Haziran-4 Temmuz tarihlerinde…
URL:https://festtr.com/festival/karamursel-kurtulus-senlikleri/
LOCATION:Kocaeli\, Kocaeli\, Türkiye
CATEGORIES:Kocaeli Festivalleri,Şenlik,Ücretsiz,Yöresel Festival
ATTACH;FMTTYPE=image/jpeg:https://festtr.com/wp-content/uploads/karamursel-5.07.2024-01-23-27.jpg
GEO:40.834389;29.902357
END:VEVENT
END:VCALENDAR