BEGIN:VCALENDAR
VERSION:2.0
PRODID:-//FestTR - ECPv6.15.20//NONSGML v1.0//EN
CALSCALE:GREGORIAN
METHOD:PUBLISH
X-ORIGINAL-URL:https://festtr.com
X-WR-CALDESC:FestTR için etkinlikler
REFRESH-INTERVAL;VALUE=DURATION:PT1H
X-Robots-Tag:noindex
X-PUBLISHED-TTL:PT1H
BEGIN:VTIMEZONE
TZID:Europe/Istanbul
BEGIN:STANDARD
TZOFFSETFROM:+0300
TZOFFSETTO:+0300
TZNAME:+03
DTSTART:20230101T000000
END:STANDARD
END:VTIMEZONE
BEGIN:VEVENT
DTSTART;TZID=Europe/Istanbul:20250920T120000
DTEND;TZID=Europe/Istanbul:20250921T233000
DTSTAMP:20260420T204852
CREATED:20250826T234656Z
LAST-MODIFIED:20250826T234801Z
UID:10004365-1758369600-1758497400@festtr.com
SUMMARY:Uluslararası Çikolata Festivali
DESCRIPTION:Birincisi Sirkeci Garında gerçekleşen 2. Uluslararası Çikolata Festivali\, 19-21 Eylül 2025 tarihlerinde İstanbul Kongre Merkezi Harbiye’de gerçekleştirilecektir.\nTürk ve dünya markalarının\, çikolata içerikli tüm ürünlerin\, workshop\, panel\, etkinlik alanları\, tatlı sürprizler ve farklı lezzetler ile çikolataya ve eğlenceye doyacaksınız. \nKonserler\, yarışmalar\, tadım atölyeleri ve daha birçok sürpriz sizi bekliyor.
URL:https://festtr.com/festival/uluslararasi-cikolata-festivali/
LOCATION:İstanbul\, İstanbul\, Türkiye
CATEGORIES:İstanbul Festivalleri,Yiyecek-İçecek Festivali
ATTACH;FMTTYPE=image/png:https://festtr.com/wp-content/uploads/Logo-CF-1.png
END:VEVENT
BEGIN:VEVENT
DTSTART;VALUE=DATE:20240425
DTEND;VALUE=DATE:20240429
DTSTAMP:20260420T204852
CREATED:20211104T150003Z
LAST-MODIFIED:20240404T191016Z
UID:10003323-1714010400-1714269599@festtr.com
SUMMARY:Mobilefest
DESCRIPTION:Mobil uygulama ve teknoloji festivali MobileFest 25-27 Nisan tarihlerinde İstanbul Kongre Merkezi’nde.
URL:https://festtr.com/festival/mobilefest/
LOCATION:İstanbul Kongre Merkezi\, Harbiye\, Darülbedai Cd. No:3\, 34367 Şişli\, İstanbul\, Şişli\, 34367\, Türkiye
CATEGORIES:Festival,İstanbul Festivalleri
ATTACH;FMTTYPE=image/jpeg:https://festtr.com/wp-content/uploads/mobil-29.03.2024-09-21-17.jpg
END:VEVENT
END:VCALENDAR