BEGIN:VCALENDAR
VERSION:2.0
PRODID:-//FestTR - ECPv6.15.20//NONSGML v1.0//EN
CALSCALE:GREGORIAN
METHOD:PUBLISH
X-WR-CALNAME:FestTR
X-ORIGINAL-URL:https://festtr.com
X-WR-CALDESC:FestTR için etkinlikler
REFRESH-INTERVAL;VALUE=DURATION:PT1H
X-Robots-Tag:noindex
X-PUBLISHED-TTL:PT1H
BEGIN:VTIMEZONE
TZID:Europe/Istanbul
BEGIN:STANDARD
TZOFFSETFROM:+0300
TZOFFSETTO:+0300
TZNAME:+03
DTSTART:20230101T000000
END:STANDARD
END:VTIMEZONE
BEGIN:VEVENT
DTSTART;TZID=Europe/Istanbul:20240519T100000
DTEND;TZID=Europe/Istanbul:20240519T230000
DTSTAMP:20260420T093556
CREATED:20240517T214311Z
LAST-MODIFIED:20240517T214533Z
UID:10003689-1716112800-1716159600@festtr.com
SUMMARY:Mantarkaya Bahar Festivali
DESCRIPTION:Mantarkaya Bahar Festivali 19 Mayıs’ta Nevşehir – Gülşehir’de.
URL:https://festtr.com/festival/mantarkaya-bahar-festivali/
LOCATION:Nevşehir\, Nevşehir\, Türkiye
CATEGORIES:Kültür Festivali,Nevşehir Festivalleri,Ücretsiz
ATTACH;FMTTYPE=image/jpeg:https://festtr.com/wp-content/uploads/mantarkaya-18.05.2024-00-41-50.jpg
END:VEVENT
END:VCALENDAR