BEGIN:VCALENDAR
VERSION:2.0
PRODID:-//FestTR - ECPv6.15.20//NONSGML v1.0//EN
CALSCALE:GREGORIAN
METHOD:PUBLISH
X-ORIGINAL-URL:https://festtr.com
X-WR-CALDESC:FestTR için etkinlikler
REFRESH-INTERVAL;VALUE=DURATION:PT1H
X-Robots-Tag:noindex
X-PUBLISHED-TTL:PT1H
BEGIN:VTIMEZONE
TZID:Europe/Istanbul
BEGIN:STANDARD
TZOFFSETFROM:+0300
TZOFFSETTO:+0300
TZNAME:+03
DTSTART:20230101T000000
END:STANDARD
END:VTIMEZONE
BEGIN:VEVENT
DTSTART;VALUE=DATE:20240524
DTEND;VALUE=DATE:20240528
DTSTAMP:20260421T125815
CREATED:20230205T215303Z
LAST-MODIFIED:20240407T211845Z
UID:10003486-1716516000-1716775199@festtr.com
SUMMARY:Konya Müzik Festivali
DESCRIPTION:Bu yıl ikinci kez düzenlenecek olan Konya Müzik Festivali\, 3 gün boyunca çeşitli etkinlikler\, birbirinden eşsiz sahne performansları ile Grand Hotel’de tüm müzikseverler ile buluşuyor.
URL:https://festtr.com/festival/konya-muzik-festivali/
LOCATION:Grand Hotel Konya\, Akademi\, Yeni İstanbul Cd. No:231/1\, 42130 Selçuklu\, Konya\, Selçuklu\, Türkiye
CATEGORIES:❤ İndirimli Festivaller,Gençlik Festivali,Konya Festivalleri,Müzik Festivali
ATTACH;FMTTYPE=image/jpeg:https://festtr.com/wp-content/uploads/konya-muzik-festivali-6.02.2023-00-54-04.jpg
END:VEVENT
END:VCALENDAR