BEGIN:VCALENDAR
VERSION:2.0
PRODID:-//FestTR - ECPv6.15.20//NONSGML v1.0//EN
CALSCALE:GREGORIAN
METHOD:PUBLISH
X-WR-CALNAME:FestTR
X-ORIGINAL-URL:https://festtr.com
X-WR-CALDESC:FestTR için etkinlikler
REFRESH-INTERVAL;VALUE=DURATION:PT1H
X-Robots-Tag:noindex
X-PUBLISHED-TTL:PT1H
BEGIN:VTIMEZONE
TZID:Europe/Istanbul
BEGIN:STANDARD
TZOFFSETFROM:+0300
TZOFFSETTO:+0300
TZNAME:+03
DTSTART:20230101T000000
END:STANDARD
END:VTIMEZONE
BEGIN:VEVENT
DTSTART;TZID=Europe/Istanbul:20251004T130000
DTEND;TZID=Europe/Istanbul:20251004T233000
DTSTAMP:20260415T212419
CREATED:20250211T212338Z
LAST-MODIFIED:20250420T202658Z
UID:10004284-1759582800-1759620600@festtr.com
SUMMARY:Medieval Festival
DESCRIPTION:Ey ahali! \nZırhını kuşan\, kılıcını bile! 🛡️🗡️ \nOrta Çağ’ın ihtişamlı diyarlarına yeniden yolculuğa çıkıyoruz! 🏰
URL:https://festtr.com/festival/medieval-festival/
LOCATION:Ankara\, Ankara\, Türkiye
CATEGORIES:❤ İndirimli Festivaller,Aktivite Festivali,Alternatif Festival,Ankara Festivalleri,Kültür Festivali,Müzik Festivali
ATTACH;FMTTYPE=image/jpeg:https://festtr.com/wp-content/uploads/medieval-12.02.2025-00-23-06.jpg
END:VEVENT
BEGIN:VEVENT
DTSTART;TZID=Europe/Istanbul:20250704T120000
DTEND;TZID=Europe/Istanbul:20250704T233000
DTSTAMP:20260415T212419
CREATED:20210829T103214Z
LAST-MODIFIED:20250531T225613Z
UID:10003290-1751630400-1751671800@festtr.com
SUMMARY:Picnic & Gathering Ankara
DESCRIPTION:Müzik\, doğa ve lezzet üçlüsünü bir araya getiren Picnic and Gathering sizlerle.
URL:https://festtr.com/festival/picnic-gathering/
LOCATION:Ankara\, Ankara\, Türkiye
CATEGORIES:❤ İndirimli Festivaller,Aktivite Festivali,Ankara Festivalleri,Müzik Festivali,Popüler
ATTACH;FMTTYPE=image/jpeg:https://festtr.com/wp-content/uploads/picnicandgathering-19.01.2024-04-37-39.jpg
END:VEVENT
BEGIN:VEVENT
DTSTART;TZID=Europe/Istanbul:20240518T120000
DTEND;TZID=Europe/Istanbul:20240519T233000
DTSTAMP:20260415T212419
CREATED:20240518T135153Z
LAST-MODIFIED:20240518T141556Z
UID:10003694-1716033600-1716161400@festtr.com
SUMMARY:Yer6 Fest - Drift Festivali
DESCRIPTION:Türkiye’nin en büyük otomobil festivali Yer6 Fest – Drift Festivali 18-19 Mayıs’ta Gölbaşı Fuar Alanı’nda.
URL:https://festtr.com/festival/yer6-fest/
LOCATION:Ankara\, Ankara\, Türkiye
CATEGORIES:Ankara Festivalleri,Otomobil Festivali,Ücretsiz
ATTACH;FMTTYPE=image/jpeg:https://festtr.com/wp-content/uploads/sil-18.05.2024-16-43-44.jpg
END:VEVENT
END:VCALENDAR