BEGIN:VCALENDAR
VERSION:2.0
PRODID:-//FestTR - ECPv6.15.20//NONSGML v1.0//EN
CALSCALE:GREGORIAN
METHOD:PUBLISH
X-ORIGINAL-URL:https://festtr.com
X-WR-CALDESC:FestTR için etkinlikler
REFRESH-INTERVAL;VALUE=DURATION:PT1H
X-Robots-Tag:noindex
X-PUBLISHED-TTL:PT1H
BEGIN:VTIMEZONE
TZID:Europe/Istanbul
BEGIN:STANDARD
TZOFFSETFROM:+0300
TZOFFSETTO:+0300
TZNAME:+03
DTSTART:20230101T000000
END:STANDARD
END:VTIMEZONE
BEGIN:VEVENT
DTSTART;TZID=Europe/Istanbul:20240726T120000
DTEND;TZID=Europe/Istanbul:20240805T210000
DTSTAMP:20260420T080649
CREATED:20190817T071214Z
LAST-MODIFIED:20240802T160839Z
UID:10002824-1721995200-1722891600@festtr.com
SUMMARY:Emirdağ Gurbetçi Festivali
DESCRIPTION:Afyonkarahisar’ın Emirdağ ilçesinde Gurbetçi Festivali her yıl temmuz ayında yapılmaktadır.
URL:https://festtr.com/festival/emirdag-gurbetci-festivali/
LOCATION:Emirdağ\, Emirdağ\, Afyon\, Türkiye
CATEGORIES:Afyon Festivalleri,Kültür Festivali,Ücretsiz,Yöresel Festival
ATTACH;FMTTYPE=image/jpeg:https://festtr.com/wp-content/uploads/emirdag-22.07.2022-03-34-44.jpg
END:VEVENT
END:VCALENDAR